BEGIN:VCALENDAR
VERSION:2.0
PRODID:-//ChamberMaster//Event Calendar 2.0//EN
METHOD:PUBLISH
X-PUBLISHED-TTL:P3D
REFRESH-INTERVAL:P3D
CALSCALE:GREGORIAN
BEGIN:VEVENT
DTSTART:20230512T123000Z
DTEND:20230512T140000Z
X-MICROSOFT-CDO-ALLDAYEVENT:FALSE
SUMMARY:Economic Prosperity Alliance 5/12/23
DESCRIPTION:Participation in the Alliance is by invitation only.
X-ALT-DESC;FMTTYPE=text/html:Participation in the Alliance is by invitation only.
LOCATION:
UID:e.468.18826
SEQUENCE:3
DTSTAMP:20260422T104640Z
URL:https://www.newnancowetachamber.org/events/details/economic-prosperity-alliance-5-12-23-18826
END:VEVENT

END:VCALENDAR
