BEGIN:VCALENDAR
VERSION:2.0
PRODID:-//ChamberMaster//Event Calendar 2.0//EN
METHOD:PUBLISH
X-PUBLISHED-TTL:P3D
REFRESH-INTERVAL:P3D
CALSCALE:GREGORIAN
BEGIN:VEVENT
DTSTART:20230811T123000Z
DTEND:20230811T140000Z
X-MICROSOFT-CDO-ALLDAYEVENT:FALSE
SUMMARY:Economic Prosperity Alliance 8/11/23
DESCRIPTION:Quarterly Economic Prosperity Council Meeting.
X-ALT-DESC;FMTTYPE=text/html:Quarterly Economic Prosperity Council Meeting.
LOCATION:Newnan Utilities Wahoo Admin Bldg 315 Millard Farmer Industrial Blvd.\, Newnan
UID:e.468.18833
SEQUENCE:3
DTSTAMP:20260420T051833Z
URL:https://www.newnancowetachamber.org/events/details/economic-prosperity-alliance-8-11-23-18833
END:VEVENT

END:VCALENDAR
