BEGIN:VCALENDAR
VERSION:2.0
PRODID:-//ChamberMaster//Event Calendar 2.0//EN
METHOD:PUBLISH
X-PUBLISHED-TTL:P3D
REFRESH-INTERVAL:P3D
CALSCALE:GREGORIAN
BEGIN:VEVENT
DTSTART:20210212T133000Z
DTEND:20210212T143000Z
X-MICROSOFT-CDO-ALLDAYEVENT:FALSE
SUMMARY:Economic Prosperity Alliance Virtual Meeting
DESCRIPTION:Invitation only.
X-ALT-DESC;FMTTYPE=text/html:Invitation only.
LOCATION:Virtual
UID:e.468.16897
SEQUENCE:3
DTSTAMP:20260425T161313Z
URL:https://www.newnancowetachamber.org/events/details/economic-prosperity-alliance-virtual-meeting-16897
END:VEVENT

END:VCALENDAR
