BEGIN:VCALENDAR
VERSION:2.0
PRODID:-//ChamberMaster//Event Calendar 2.0//EN
METHOD:PUBLISH
X-PUBLISHED-TTL:P3D
REFRESH-INTERVAL:P3D
CALSCALE:GREGORIAN
BEGIN:VEVENT
DTSTART:20230914T153000Z
DTEND:20230914T170000Z
X-MICROSOFT-CDO-ALLDAYEVENT:FALSE
SUMMARY:Enhanced Investor's Industry VIP Lunch and Tour
DESCRIPTION:The Lunch and Tour is for the Chamber's Enhanced Investors and is by invitation only.\n\nJoin Director of Operations\, Annissia Hanyard\, for a tour of the HelloFresh Newnan Distribution center and lunch.  Be sure to reserve your seat. Email Valerie@newnancowetachamber.org
X-ALT-DESC;FMTTYPE=text/html:<span style="font-size:12px\;"><span style="font-family:tahoma\;"><u><strong>The Lunch and Tour is for the Chamber&#39\;s Enhanced Investors and is by invitation only.</strong></u><br />\nJoin Director of Operations\, Annissia Hanyard\, for a tour of the HelloFresh Newnan Distribution center and lunch.&nbsp\;&nbsp\;Be sure to reserve your seat. Email <span style="color:#0563C1\;"><a href="mailto:Valerie@newnancowetachamber.org">Valerie@newnancowetachamber.org</a></span></span></span><br />\n<br />\n&nbsp\;
LOCATION:Hello Fresh 510 International Parkway\, Newnan
UID:e.468.19114
SEQUENCE:3
DTSTAMP:20260420T052004Z
URL:https://www.newnancowetachamber.org/events/details/enhanced-investor-s-industry-vip-lunch-and-tour-19114
END:VEVENT

END:VCALENDAR
