BEGIN:VCALENDAR
VERSION:2.0
PRODID:-//ChamberMaster//Event Calendar 2.0//EN
METHOD:PUBLISH
X-PUBLISHED-TTL:P3D
REFRESH-INTERVAL:P3D
CALSCALE:GREGORIAN
BEGIN:VEVENT
DTSTART:20201020T200000Z
DTEND:20201020T210000Z
X-MICROSOFT-CDO-ALLDAYEVENT:FALSE
SUMMARY:Equality of Opportunity Committee Meeting (Virtual) #2
DESCRIPTION:Please contact the Chamber if you're interested in this initiative of the Advancing Coweta Task Force.
X-ALT-DESC;FMTTYPE=text/html:Please contact the Chamber if you&#39\;re interested in this initiative of the Advancing Coweta Task Force.
LOCATION:Virtual
UID:e.468.16829
SEQUENCE:3
DTSTAMP:20260425T220839Z
URL:https://www.newnancowetachamber.org/events/details/equality-of-opportunity-committee-meeting-virtual-2-16829
END:VEVENT

END:VCALENDAR
