BEGIN:VCALENDAR
VERSION:2.0
PRODID:-//ChamberMaster//Event Calendar 2.0//EN
METHOD:PUBLISH
X-PUBLISHED-TTL:P3D
REFRESH-INTERVAL:P3D
CALSCALE:GREGORIAN
BEGIN:VEVENT
DTSTART:20201027T200000Z
DTEND:20201027T210000Z
X-MICROSOFT-CDO-ALLDAYEVENT:FALSE
SUMMARY:Equality of Opportunity Committee Meeting (Virtual) #3
DESCRIPTION:Equality of Opportunity virtual meeting featuring Carlos Phillips\, President & CEO\, Greenville Chamber of Commerce. Phillips began serving as President/CEO of the Greenville Chamber on March 29\, 2016. He brings a collaborative spirit and fresh approach to his leadership of the largest business organization in the Upstate. Under Phillips' leadership\, the Greenville Chamber leads\, convenes\, and mobilizes the business community to drive regional economic growth.\n\n\n\nClick here to register.\n\n\n\nEquality of Opportunity is an initiative of the Advancing Coweta Task Force. Please contact the Newnan-Coweta Chamber if you're interested in joining this committee. All Chamber members are invited to join the virtual meeting.
X-ALT-DESC;FMTTYPE=text/html:<span style="font-size:14px\;"><span style="font-family:tahoma\;">Equality of Opportunity virtual meeting featuring Carlos Phillips\, President &amp\; CEO\, Greenville Chamber of Commerce. Phillips began serving as President/CEO of the Greenville Chamber on March 29\, 2016. He brings a collaborative spirit and fresh approach to his leadership of the largest business organization in the Upstate. Under Phillips&#39\; leadership\, the Greenville Chamber leads\, convenes\, and mobilizes the business community to drive regional economic growth.<br />\n<br />\n<a href="https://zoom.us/meeting/register/tJIrceCvrz8oGdCOEqy4fDEuxMtGdjJ3Tr80">Click here to register.</a><br />\n<br />\nEquality of Opportunity is an initiative of the Advancing Coweta Task Force. Please contact the Newnan-Coweta Chamber if you&#39\;re interested in joining this committee. All Chamber members are invited to join the virtual meeting.&nbsp\;</span></span>
LOCATION:Virtual | Click here to register
UID:e.468.16830
SEQUENCE:3
DTSTAMP:20260425T221717Z
URL:https://www.newnancowetachamber.org/events/details/equality-of-opportunity-committee-meeting-virtual-3-16830
END:VEVENT

END:VCALENDAR
