BEGIN:VCALENDAR
VERSION:2.0
PRODID:-//ChamberMaster//Event Calendar 2.0//EN
METHOD:PUBLISH
X-PUBLISHED-TTL:P3D
REFRESH-INTERVAL:P3D
CALSCALE:GREGORIAN
BEGIN:VEVENT
DTSTART:20201103T210000Z
DTEND:20201103T223000Z
X-MICROSOFT-CDO-ALLDAYEVENT:FALSE
SUMMARY:Equality of Opportunity Committee Meeting (Virtual) #4
DESCRIPTION:Equality of Opportunity virtual meeting featuring Mark Wilson\, President & CEO\, Florida Chamber of Commerce. Wilson leads the substantial political\, lobbying\, grassroots\, and economic research operations of the Florida Chamber of Commerce\, Florida's largest and most influential business advocacy organization.\n\n\n\nThe Florida Chamber focuses on creating a business climate that generates prosperity and high-paying jobs\, vibrant communities and global competitiveness in the state of Florida by focusing on job creation and the Six Pillars of Florida's Future Economy: Talent Supply & Education\, Innovation & Economic Development\, Infrastructure & Growth Leadership\, Business Climate & Competitiveness\, Civic & Governance Systems and Quality of Life & Quality Places.\n\n \n\nClick here to register.\n\n\n\nEquality of Opportunity is an initiative of the Advancing Coweta Task Force. Please contact the Newnan-Coweta Chamber if you're interested in joining this committee. All Chamber members are invited to join the virtual meeting.
X-ALT-DESC;FMTTYPE=text/html:<span style="font-size:14px\;"><span style="font-family:tahoma\;">Equality of Opportunity virtual meeting featuring Mark Wilson\, President &amp\; CEO\, Florida Chamber of Commerce. Wilson leads the substantial political\, lobbying\, grassroots\, and economic research operations of the Florida Chamber of Commerce\, Florida&rsquo\;s largest and most influential business advocacy organization.<br />\n<br />\nThe Florida Chamber focuses on creating a business climate that generates prosperity and high-paying jobs\, vibrant communities and global competitiveness in the state of Florida by focusing on job creation and the Six Pillars of Florida&rsquo\;s Future Economy: Talent Supply &amp\; Education\, Innovation &amp\; Economic Development\, Infrastructure &amp\; Growth Leadership\, Business Climate &amp\; Competitiveness\, Civic &amp\; Governance Systems and Quality of Life &amp\; Quality Places.<br />\n&nbsp\;<br />\n<u><a href="https://zoom.us/meeting/register/tJIpcemtqjkoG9NFyd0YeWQMRa1gbmnrKTrd">Click here to register.</a></u><br />\n<br />\nEquality of Opportunity is an initiative of the Advancing Coweta Task Force. Please contact the Newnan-Coweta Chamber if you&#39\;re interested in joining this committee. All Chamber members are invited to join the virtual meeting.&nbsp\;</span></span>
LOCATION:Virtual | Click here to register
UID:e.468.16831
SEQUENCE:3
DTSTAMP:20260425T204620Z
URL:https://www.newnancowetachamber.org/events/details/equality-of-opportunity-committee-meeting-virtual-4-16831
END:VEVENT

END:VCALENDAR
