BEGIN:VCALENDAR
VERSION:2.0
PRODID:-//ChamberMaster//Event Calendar 2.0//EN
METHOD:PUBLISH
X-PUBLISHED-TTL:P3D
REFRESH-INTERVAL:P3D
CALSCALE:GREGORIAN
BEGIN:VEVENT
DTSTART:20201117T210000Z
DTEND:20201117T220000Z
X-MICROSOFT-CDO-ALLDAYEVENT:FALSE
SUMMARY:Equality of Opportunity Committee Meeting (Virtual) #5
DESCRIPTION:Equality of Opportunity virtual meeting featuring Rick Wade\, Vice President\, Strategic Alliances and Outreach\, U.S. Chamber of Commerce. Wade develops and implements programs and initiatives to help the U.S. Chamber create new business relationships and partnerships across diverse audiences. He also provides counsel on policy issues and leads special projects. Wade's wealth of knowledge and experience in both the public and private sectors enable him to give a megaphone to the voice of business across the country and share the positive impacts of the free enterprise system.\n\n \n\nClick here to register.\n\n\n\nEquality of Opportunity committee is an initiative of the Advancing Coweta task force. Please contact the Newnan-Coweta Chamber if you're interested in joining this committee. This virtual meeting is open to the public.
X-ALT-DESC;FMTTYPE=text/html:<span style="font-size:14px\;"><span style="font-family:tahoma\;">Equality of Opportunity virtual meeting featuring Rick Wade\, Vice President\, Strategic Alliances and Outreach\, U.S. Chamber of Commerce. Wade develops and implements programs and initiatives to help the U.S. Chamber create new business relationships and partnerships across diverse audiences. He also provides counsel on policy issues and leads special projects. Wade&rsquo\;s wealth of knowledge and experience in both the public and private sectors enable him to give a megaphone to the voice of business across the country and share the positive impacts of the free enterprise system.<br />\n&nbsp\;<br />\n<u><a href="https://zoom.us/meeting/register/tJMvcuuqqjIrGNIKZUN-BbPHjqxFbXADvyPK">Click here to register.</a></u><br />\n<br />\nEquality of Opportunity committee is an initiative of the Advancing Coweta task force. Please contact the Newnan-Coweta Chamber if you&#39\;re interested in joining this committee. This virtual meeting is open to the public.&nbsp\;</span></span>
LOCATION:Virtual | Click here to register
UID:e.468.16832
SEQUENCE:3
DTSTAMP:20260425T204459Z
URL:https://www.newnancowetachamber.org/events/details/equality-of-opportunity-committee-meeting-virtual-5-16832
END:VEVENT

END:VCALENDAR
