BEGIN:VCALENDAR
VERSION:2.0
PRODID:-//ChamberMaster//Event Calendar 2.0//EN
METHOD:PUBLISH
X-PUBLISHED-TTL:P3D
REFRESH-INTERVAL:P3D
CALSCALE:GREGORIAN
BEGIN:VEVENT
DTSTART:20230525T153000Z
DTEND:20230525T170000Z
X-MICROSOFT-CDO-ALLDAYEVENT:FALSE
SUMMARY:FBI Foreign Interference Lunch and Learn
DESCRIPTION:On Thursday\, May 25th\, join us for a lunch-and-learn to raise awareness about foreign interference's often devastating impact on businesses. Guest speakers from the Federal Bureau of Investigation will bring insight into this critical topic\, while you'll have the opportunity to meet and network with other Chamber members committed to understanding this issue.\n\n\n\nYou'll learn more about why foreign interference is a significant concern and how it affects businesses in our community. You'll be presented with compelling statistics and case studies showing how damaging foreign interference can be to businesses financially and ethically. Plus\, we'll provide information on steps each business can take to protect itself from any future threats.\n\n\n\nThe event will take place at the Newnan Utilities Wahoo Creek Administrative building at 315 Millard Farmer Industrial Boulevard\, in Newnan at 11:30 AM\, with lunch included in the registration fee. We anticipate a full-house\, so please make sure to RSVP today!\n\n\n\nTake advantage of this valuable chance to learn more about foreign interference.
X-ALT-DESC;FMTTYPE=text/html:<span style="font-size:14px\;"><span style="font-family:tahoma\;">On Thursday\, May 25th\, join us for a lunch-and-learn to raise awareness about foreign interference&#39\;s often devastating impact on businesses. Guest speakers from the Federal Bureau of Investigation will bring insight into this critical topic\, while you&#39\;ll have the opportunity to meet and network with other Chamber members committed to understanding this issue.<br />\n<br />\nYou&rsquo\;ll learn more about why foreign interference is a significant concern and how it affects businesses in our community. You&#39\;ll be presented with compelling statistics and case studies showing how damaging foreign interference can be to businesses financially and ethically. Plus\, we&#39\;ll provide information on steps each business can take to protect itself from any future threats.<br />\n<br />\nThe event will take place at the Newnan Utilities Wahoo Creek Administrative building at 315 Millard Farmer Industrial Boulevard\, in Newnan at 11:30 AM\, with lunch included in the registration fee. We anticipate a full-house\, so please make sure to RSVP today!<br />\n<br />\nTake advantage of this valuable chance to learn more about foreign interference.</span></span>
LOCATION:Newnan Utilities Wahoo Creek Administrative Building 315 Millard Farmer Industrial Blvd. Newnan\, GA 30263
UID:e.468.18847
SEQUENCE:3
DTSTAMP:20260422T103220Z
URL:https://www.newnancowetachamber.org/events/details/fbi-foreign-interference-lunch-and-learn-18847
END:VEVENT

END:VCALENDAR
