BEGIN:VCALENDAR
VERSION:2.0
PRODID:-//ChamberMaster//Event Calendar 2.0//EN
METHOD:PUBLISH
X-PUBLISHED-TTL:P3D
REFRESH-INTERVAL:P3D
CALSCALE:GREGORIAN
BEGIN:VEVENT
DTSTART:20230830T123000Z
DTEND:20230830T180000Z
X-MICROSOFT-CDO-ALLDAYEVENT:FALSE
SUMMARY:Forward Coweta Summit
DESCRIPTION:Mark your calendar and join us on Wednesday\, August 30th\, at the Newnan Center for the Forward Coweta Growth Summit\, focused on building an informed community engaged in meaningful civic conversations. \n\nThis exciting event will feature dynamic storytelling from special presenters who have lived through the evolution of their communities\, sharing success stories and best practices. Keynote speakers will share their insights\, inspiring you to consider your impact on the greater Coweta community.\n\n\n\nThe Forward Coweta initiative aims to help drive community progress through collaborative work and intentional investments. Be a part of this meaningful conversation and explore strategies and best practices from fast-growing communities.\n\n\n\nTake advantage of connecting with like-minded individuals who care about our community's growth. Get ready to be motivated and inspired\; let's build a better tomorrow together.\n\n\n\nWe need your favorite song! Please make sure to include your song when you register.
X-ALT-DESC;FMTTYPE=text/html:<p><span style="font-size:14px\;"><span style="font-family:tahoma\;">Mark your calendar and join us on&nbsp\;Wednesday\, August 30<sup>th\,</sup> at the Newnan Center for the Forward Coweta Growth Summit\, focused on building an informed community engaged in meaningful civic conversations. </span></span></p>\n\n<p><span style="font-size:14px\;"><span style="font-family:tahoma\;">This exciting event will feature dynamic storytelling from special presenters who have lived through the evolution of their communities\, sharing success stories and best practices. Keynote speakers will share their insights\, inspiring you to consider your impact on the greater Coweta community.<br />\n<br />\nThe Forward Coweta initiative aims to help drive community progress through collaborative work and intentional investments. Be a part of this meaningful conversation and explore strategies and best practices from fast-growing communities.<br />\n<br />\n<span style="background:white\;">Take advantage of connecting with like-minded individuals who care about our community&#39\;s growth. Get ready to be motivated and inspired\; let&#39\;s build a better tomorrow together.<br />\n<br />\nWe need your favorite song! Please make sure to include your song&nbsp\;when you register.</span></span></span></p>\n
LOCATION:The Newnan Centre 1515 Lower Fayetteville Road Newnan\, GA 30265
UID:e.468.18837
SEQUENCE:3
DTSTAMP:20260422T112350Z
URL:https://www.newnancowetachamber.org/events/details/forward-coweta-summit-18837
END:VEVENT

END:VCALENDAR
