BEGIN:VCALENDAR
VERSION:2.0
PRODID:-//ChamberMaster//Event Calendar 2.0//EN
METHOD:PUBLISH
X-PUBLISHED-TTL:P3D
REFRESH-INTERVAL:P3D
CALSCALE:GREGORIAN
BEGIN:VEVENT
DTSTART:20240828T123000Z
DTEND:20240828T163000Z
X-MICROSOFT-CDO-ALLDAYEVENT:FALSE
SUMMARY:Forward Coweta Summit 2024
DESCRIPTION:Mark your calendar for the 2nd Annual Forward Coweta Summit\, presented by Georgia Power!\n\n\n\nJoin us on Wednesday\, August 28th at 8:30am at the Newnan Centre. This year's theme is Community\, Careers\, Connectivity. Join us at Forward Coweta. We're bringing together the brightest minds and the most passionate leaders and residents to shape the future of Coweta County. Join us for an inspiring time of vision setting\, networking\, and collaboration!\n\n	Connect with Community Leaders: We must become place-making Extraordinaires! Discover how we can unlock Coweta's strong sense of community\, and small-town charm to showcase our county and enhance the quality of life for those who have and the thousands that will ultimately call Coweta County their home.\n	Explore Career Opportunities: Unlock the potential of our unique geography\, resources\, and workforce to learn how to create pathways for current and future businesses - and their employees - to maximize growth and development in a way that benefits Coweta County. \n	Enhance Connectivity: Explore innovative strategies to foster connections and strengthen ties within our community\, driving economic growth and prosperity for all! \n\n\nThis is your chance to be part of something bigger. Let's come together to build a brighter future for Coweta County.  Don't miss out! Reserve your spot today for Forward Coweta 2024. Stay tuned for more details!
X-ALT-DESC;FMTTYPE=text/html:<span style="font-size:14px\;"><span style="font-family:arial\;"><em><span style="background:white\;font-style:normal\;">Mark your calendar for the 2nd Annual Forward Coweta Summit\, presented by Georgia Power!</span></em><br />\n<br />\nJoin us on Wednesday\, August 28th at 8:30am at the Newnan Centre. This year&rsquo\;s theme is Community\, Careers\, Connectivity. Join us at Forward Coweta. We&#39\;re bringing together the brightest minds and the most passionate leaders and residents to shape the future of Coweta County. Join us for an inspiring time of vision setting\, networking\, and collaboration!</span></span>\n<ul>\n	<li style="color:black\;margin-top:0in\;margin-bottom:0in\;"><span style="font-size:14px\;"><span style="font-family:arial\;"><strong>Connect with Community Leaders:</strong>&nbsp\;We must become place-making Extraordinaires! Discover how we can unlock Coweta&#39\;s strong sense of community\, and small-town charm to showcase our county and enhance the quality of life for those who have and the thousands that will ultimately call Coweta County their home.</span></span></li>\n	<li style="color:black\;margin-top:0in\;margin-bottom:0in\;"><span style="font-size:14px\;"><span style="font-family:arial\;"><strong>Explore Career Opportunities:</strong>&nbsp\;Unlock the potential of our unique geography\, resources\, and workforce to learn how to create pathways for current and future businesses - and their employees - to maximize growth and development in a way that benefits Coweta County.&nbsp\;</span></span></li>\n	<li style="color:black\;margin-top:0in\;margin-bottom:0in\;"><span style="font-size:14px\;"><span style="font-family:arial\;"><strong>Enhance Connectivity:</strong>&nbsp\;Explore innovative strategies to foster connections and strengthen ties within our community\, driving economic growth and prosperity for all!&nbsp\;</span></span></li>\n</ul>\n\n<div style="color:black\;margin-top:0in\;margin-bottom:0in\;"><span style="font-size:14px\;"><span style="font-family:arial\;"><span style="font-size:14px\;"><span style="font-family:arial\;">This is your chance to be part of something bigger. Let&#39\;s come together to build a brighter future for Coweta County.&nbsp\;&nbsp\;Don&#39\;t miss out! Reserve your spot today for Forward Coweta 2024. Stay tuned for more details!</span></span></span></span></div>\n
LOCATION:The Newnan Centre 1515 Lower Fayetteville Road Newnan\, GA 30265
UID:e.468.19190
SEQUENCE:3
DTSTAMP:20260420T033630Z
URL:https://www.newnancowetachamber.org/events/details/forward-coweta-summit-2024-19190
END:VEVENT

END:VCALENDAR
