BEGIN:VCALENDAR
VERSION:2.0
PRODID:-//ChamberMaster//Event Calendar 2.0//EN
METHOD:PUBLISH
X-PUBLISHED-TTL:P3D
REFRESH-INTERVAL:P3D
CALSCALE:GREGORIAN
BEGIN:VEVENT
DTSTART:20221116T163000Z
DTEND:20221116T180000Z
X-MICROSOFT-CDO-ALLDAYEVENT:FALSE
SUMMARY:Friendsgiving
DESCRIPTION:The Chamber's mission is to champion economic prosperity for our members. This translates to many endeavors\, from member connections opportunities to community development. \n\nAs we look back on another year of growth\, progress\, collaboration\, and success\, it's important that we recognize the two business sectors that\, together\, keep this community humming. \n\nThe Chamber's Non-Profit Alliance\, led by program chair Kevin Barbee of Elevate Coweta Students\, enjoys an annual opportunity to join Chamber staff\, leadership\, and associates in recognizing the combined impact of non-profit service organizations and the for-profit corporate citizens that support them. \n\nAs a way to show appreciation to all businesses that support the greater good of the Coweta community\, whether through donations\, volunteerism\, or other means of support\, we invite you to join us at our Friendsgiving lunch\, a pot-luck-style gathering that includes donations from local restaurants and eateries\, each of which has chosen one dish to share with the group. \n\n\n\nWe're grateful for the delectable delights pledged so far:\n\nMeals on Wheels: Turkey\n\nDunc's BBQ: Cornbread Dressing and Gravy\n\nThe Cellar: Macaroni and Cheese\n\nCoweta Crossroads Chick-fil-A: Nuggets and Fruit Trays\n\nNewk's: Charcuterie\, Chicken Salad\, Pasta Salad\n\nLife of the South: Green Vegetable\n\nPalmer's: Collard Greens\n\nGrayson's: Au Gratin Potatoes\n\nCoweta FORCE: Mac and cheese\n\nJim 'N Nick's Bar-B-Q: Cheese Biscuits\n\nSweet Treats by Charsea Jones: Mini Banana Pudding and Mini Strawberry Shortcakes\n\nNothing Bundt Cakes: Pumpkin Bundtinis\n\nAll Things Sugar: Custom Cookies\n\nKool Bean: Hot and Iced Coffee\n\nIs there something that you'd like to contribute? Are you interested in serving as a corporate sponsor for this event?  Reach out to Susan for more information!
X-ALT-DESC;FMTTYPE=text/html:<span style="font-size:14px\;"><span style="font-family:tahoma\;"><font color="#212121" style="font-size: 13px\;">The Chamber&#39\;s mission is to champion economic prosperity for our members. This translates to many endeavors\, from member connections opportunities to community development.&nbsp\;</font></span></span>\n<div>\n<p><span style="font-size:14px\;"><span style="font-family:tahoma\;"><font color="#212121" style="font-size: 13px\;">As we look back on another year of growth\, progress\, collaboration\, and success\, it&#39\;s important that we recognize the two business sectors that\, together\, keep this community humming.&nbsp\;</font></span></span></p>\n\n<p><span style="font-size:14px\;"><span style="font-family:tahoma\;"><font color="#212121" style="font-size: 13px\;">The Chamber&#39\;s Non-Profit Alliance\, led by program chair Kevin Barbee of Elevate Coweta Students\, enjoys an annual opportunity to join Chamber staff\, leadership\, and associates in recognizing the combined impact of non-profit service organizations and the for-profit corporate citizens that support them.&nbsp\;</font></span></span></p>\n\n<p><span style="font-size:14px\;"><span style="font-family:tahoma\;"><font color="#212121" style="font-size: 13px\;">As a way to show appreciation to all businesses that support the greater good of the Coweta community\,&nbsp\;whether through&nbsp\;donations\, volunteerism\, or other means of support\,&nbsp\;we invite you to join us at our&nbsp\;Friendsgiving lunch\, a pot-luck-style gathering that includes donations from local restaurants and eateries\, each of which has&nbsp\;chosen one&nbsp\;dish to&nbsp\;share with the group.&nbsp\;</font><br />\n<br font-size:="" style="color: rgb(51\, 51\, 51)\; font-family: sans-serif\, Arial\, Verdana\, " trebuchet="" />\n<strong font-size:="" style="color: rgb(51\, 51\, 51)\; font-family: sans-serif\, Arial\, Verdana\, " trebuchet="">We&#39\;re grateful for the&nbsp\;delectable delights pledged so far:</strong><br font-size:="" style="color: rgb(51\, 51\, 51)\; font-family: sans-serif\, Arial\, Verdana\, " trebuchet="" />\nMeals on Wheels: Turkey<br />\nDunc&#39\;s BBQ: Cornbread Dressing and Gravy<br />\nThe Cellar: Macaroni and Cheese<br />\nCoweta Crossroads Chick-fil-A: Nuggets and Fruit Trays<br />\nNewk&#39\;s: Charcuterie\, Chicken Salad\, Pasta Salad<br />\nLife of the South: Green Vegetable<br />\nPalmer&#39\;s: Collard Greens<br />\nGrayson&#39\;s: Au Gratin Potatoes<br />\nCoweta FORCE: Mac and cheese<br />\nJim &#39\;N Nick&#39\;s Bar-B-Q: Cheese Biscuits<br />\nSweet Treats by Charsea Jones: Mini Banana Pudding and Mini Strawberry Shortcakes<br />\nNothing Bundt Cakes: Pumpkin Bundtinis<br />\nAll Things Sugar: Custom Cookies<br />\nKool Bean: Hot and Iced Coffee</span></span></p>\n\n<p><span style="font-size:14px\;"><span style="font-family:tahoma\;"><span style="color:#B22222\;">Is there something that you&#39\;d like to contribute? Are you interested in serving as a corporate sponsor for this event?&nbsp\; Reach out to Susan for more information!</span></span></span></p>\n</div>\n
LOCATION:Newnan Utilities Cabin 1 Young Ave | Newnan
UID:e.468.18555
SEQUENCE:3
DTSTAMP:20260421T100551Z
URL:https://www.newnancowetachamber.org/events/details/friendsgiving-18555
END:VEVENT

END:VCALENDAR
