BEGIN:VCALENDAR
VERSION:2.0
PRODID:-//ChamberMaster//Event Calendar 2.0//EN
METHOD:PUBLISH
X-PUBLISHED-TTL:P3D
REFRESH-INTERVAL:P3D
CALSCALE:GREGORIAN
BEGIN:VEVENT
DTSTART:20261118T163000Z
DTEND:20261118T180000Z
X-MICROSOFT-CDO-ALLDAYEVENT:FALSE
SUMMARY:Friendsgiving Luncheon
DESCRIPTION:The Chamber's Non-Profit Alliance enjoys an annual opportunity to join Chamber staff\, leadership\, and associates in recognizing the combined impact of non-profit service organizations and the for-profit corporate citizens that support them.\n\n\n\nTo show appreciation to all businesses that support the greater good of the Coweta community\, whether through donations\, volunteerism\, or other means of support\, we invite you to join us at our Friendsgiving lunch\, a pot-luck-style gathering that includes donations from local restaurants and eateries\, each of which has chosen one dish to share with the group.\n\n\n\nIf you are interested in sponsoring this year's Friendsgiving\, please contact Colleen D. Mitchell\, colleen@newnancowetachamber.org 404-788-3252
X-ALT-DESC;FMTTYPE=text/html:<span style="color: rgb(0\, 0\, 0)\; font-family: arial\; font-size: medium\;">The Chamber&#39\;s Non-Profit Alliance enjoys an annual opportunity to join Chamber staff\, leadership\, and associates in recognizing the combined impact of non-profit service organizations and the for-profit corporate citizens that support them.</span><br style="color: rgb(0\, 0\, 0)\; font-family: arial\; font-size: medium\;" />\n<br style="color: rgb(0\, 0\, 0)\; font-family: arial\; font-size: medium\;" />\n<span style="color: rgb(0\, 0\, 0)\; font-family: arial\;">To show appreciation to all businesses that support the greater good of the Coweta community\, whether through donations\, volunteerism\, or other means of support\, we invite you to join us at our Friendsgiving lunch\, a pot-luck-style gathering that includes donations from local restaurants and eateries\, each of which has chosen one dish to share with the group.</span><br style="color: rgb(0\, 0\, 0)\; font-family: arial\; font-size: medium\;" />\n<br style="color: rgb(0\, 0\, 0)\; font-family: arial\; font-size: medium\;" />\n<span style="color: rgb(0\, 0\, 0)\; font-family: arial\;">If you are interested in sponsoring this year&#39\;s Friendsgiving\, please contact Colleen D. Mitchell\, colleen@newnancowetachamber.org 404-788-3252</span>
LOCATION:Newnan Utilities Cabin 1 Young Avenue Newnan\, Georgia 30263
UID:e.468.21300
SEQUENCE:3
DTSTAMP:20260424T191131Z
URL:https://www.newnancowetachamber.org/events/details/friendsgiving-luncheon-21300
END:VEVENT

END:VCALENDAR
