BEGIN:VCALENDAR
VERSION:2.0
PRODID:-//ChamberMaster//Event Calendar 2.0//EN
METHOD:PUBLISH
X-PUBLISHED-TTL:P3D
REFRESH-INTERVAL:P3D
CALSCALE:GREGORIAN
BEGIN:VEVENT
DTSTART:20220314T160000Z
DTEND:20220314T170000Z
X-MICROSOFT-CDO-ALLDAYEVENT:FALSE
SUMMARY:Georgia Secretary of State Brad Raffensperger Visits Newnan
DESCRIPTION:Please join us for an exclusive visit from Georgia Secretary of State\, Brad Raffensperger. Secretary Raffensperger will give a brief update on current affairs after which he hosts a Q&A to answer any questions regarding the agency.\n\n\n\nSecretary of State Brad Raffensperger is the CEO and owner of Tendon Systems\, LLC. Tendon is a specialty contracting and engineering design firm with nearly 200 employees. The firm has operated in 35 different states. Raffensperger also owns and operates a specialty steel manufacturing plants based in Forsyth County. Additionally\, he served two terms in the Georgia General Assembly from 2015-2019. Brad Raffensperger earned a bachelor's degree in civil engineering from Western University and was awarded his MBA from Georgia State University.  He is a licensed Professional Engineer in over 30 states.
X-ALT-DESC;FMTTYPE=text/html:<span style="font-size:14px\;"><span style="font-family:tahoma\;">Please join us for an exclusive visit from Georgia Secretary of State\, Brad Raffensperger. Secretary Raffensperger will give a brief update on current affairs after which he hosts a Q&amp\;A to answer any questions regarding the agency.<br />\n<br />\nSecretary of State Brad Raffensperger is the CEO and owner of Tendon Systems\, LLC. Tendon is a specialty contracting and engineering design firm with nearly 200 employees. The firm has operated in 35 different states. Raffensperger also owns and operates a specialty steel manufacturing plants based in Forsyth County.&nbsp\;Additionally\, he served two terms in the Georgia General Assembly from 2015-2019.&nbsp\;Brad Raffensperger earned a bachelor&rsquo\;s degree in civil engineering from Western University and was awarded his MBA from Georgia State University.&nbsp\;&nbsp\;He is a licensed Professional Engineer in over 30 states.</span></span>
LOCATION:The Chamber 23 Bullsboro Drive Newnan\, GA 30263
UID:e.468.18245
SEQUENCE:3
DTSTAMP:20260424T191501Z
URL:https://www.newnancowetachamber.org/events/details/georgia-secretary-of-state-brad-raffensperger-visits-newnan-18245
END:VEVENT

END:VCALENDAR
