BEGIN:VCALENDAR
VERSION:2.0
PRODID:-//ChamberMaster//Event Calendar 2.0//EN
METHOD:PUBLISH
X-PUBLISHED-TTL:P3D
REFRESH-INTERVAL:P3D
CALSCALE:GREGORIAN
BEGIN:VEVENT
DTSTART:20210331T220000Z
DTEND:20210331T233000Z
X-MICROSOFT-CDO-ALLDAYEVENT:FALSE
SUMMARY:Golf Life Ladies Kick-off Party #2
DESCRIPTION:These are informational gatherings for you and your friends to learn about who the Golf Life Ladies are\, what we are all about\, and your chance to sign up as a member of this elite group of FUN ladies!  No golf will be played through our league on these nights.  Gather your lady friends and family and RSVP for one of two events - new golfers welcome.  Snacks and libation will be provided - thank you to White Oak GC for your generosity! \n\n \n\nWhite Oak has a maximum 50 person capacity in their restaurant so we will require RSVP's this year.  Keep a lookout for a Facebook invitation or RSVP here.  If you haven't Liked our page yet\, please do so as we make announcements there during the season.  Also\, White Oak requires face masks in common areas and they have arranged their tables for social distancing.
X-ALT-DESC;FMTTYPE=text/html:These are informational gatherings for you and your friends to learn about who the Golf Life Ladies are\, what&nbsp\;we are all about\, and your chance to sign up as a member of this elite group of FUN ladies!&nbsp\; No golf will be played through our league on these nights.&nbsp\; Gather your lady friends and family and RSVP for one of two events - new golfers welcome.&nbsp\; Snacks and libation&nbsp\;will&nbsp\;be provided - thank you to White Oak GC for your generosity!&nbsp\;<br />\n&nbsp\;<br />\nWhite Oak has a maximum 50 person capacity in their restaurant so we will <strong>require RSVP&#39\;s</strong> this year.&nbsp\; Keep a lookout for a Facebook invitation or RSVP here.&nbsp\; If you haven&#39\;t Liked our page yet\, please do so as we make announcements there during the season.&nbsp\; Also\, White Oak requires face masks in common areas and they have arranged their tables for social distancing.
LOCATION:White Oak Golf Club 141 Clubview Dr | Newnan
UID:e.468.17255
SEQUENCE:3
DTSTAMP:20260425T161342Z
URL:https://www.newnancowetachamber.org/events/details/golf-life-ladies-kick-off-party-2-17255
END:VEVENT

END:VCALENDAR
