BEGIN:VCALENDAR
VERSION:2.0
PRODID:-//ChamberMaster//Event Calendar 2.0//EN
METHOD:PUBLISH
X-PUBLISHED-TTL:P3D
REFRESH-INTERVAL:P3D
CALSCALE:GREGORIAN
BEGIN:VEVENT
DTSTART:20210414T220000Z
DTEND:20210414T233000Z
X-MICROSOFT-CDO-ALLDAYEVENT:FALSE
SUMMARY:Golf Life Ladies Play and Clinic
DESCRIPTION:White Oak has a maximum 50 person capacity in their restaurant so we will require RSVP's this year.  Keep a lookout for a Facebook invitation or RSVP here.  If you haven't Liked our page yet\, please do so as we make announcements there during the season.  Also\, White Oak requires face masks in common areas and they have arranged their tables for social distancing.
X-ALT-DESC;FMTTYPE=text/html:White Oak has a maximum 50 person capacity in their restaurant so we will <strong>require RSVP&#39\;s</strong> this year.&nbsp\; Keep a lookout for a Facebook invitation or RSVP here.&nbsp\; If you haven&#39\;t Liked our page yet\, please do so as we make announcements there during the season.&nbsp\; Also\, White Oak requires face masks in common areas and they have arranged their tables for social distancing.
LOCATION:White Oak Golf Club 141 Clubview Dr | Newnan
UID:e.468.17256
SEQUENCE:3
DTSTAMP:20260425T144722Z
URL:https://www.newnancowetachamber.org/events/details/golf-life-ladies-play-and-clinic-17256
END:VEVENT

END:VCALENDAR
