BEGIN:VCALENDAR
VERSION:2.0
PRODID:-//ChamberMaster//Event Calendar 2.0//EN
METHOD:PUBLISH
X-PUBLISHED-TTL:P3D
REFRESH-INTERVAL:P3D
CALSCALE:GREGORIAN
BEGIN:VEVENT
DTSTART:20230420T200000Z
DTEND:20230420T220000Z
X-MICROSOFT-CDO-ALLDAYEVENT:FALSE
SUMMARY:Goodwill and Newnan-Coweta Chamber Job Fair
DESCRIPTION:Multi-Industry Job/Career Fair
X-ALT-DESC;FMTTYPE=text/html:Multi-Industry Job/Career Fair&nbsp\;&nbsp\;&nbsp\;&nbsp\;&nbsp\;&nbsp\;&nbsp\;&nbsp\;
LOCATION:Newnan First United Methodist Church 33 Greenville St. S\, Newnan\, GA 30263
UID:e.468.18795
SEQUENCE:3
DTSTAMP:20260422T112805Z
URL:https://www.newnancowetachamber.org/events/details/goodwill-and-newnan-coweta-chamber-job-fair-18795
END:VEVENT

END:VCALENDAR
