BEGIN:VCALENDAR
VERSION:2.0
PRODID:-//ChamberMaster//Event Calendar 2.0//EN
METHOD:PUBLISH
X-PUBLISHED-TTL:P3D
REFRESH-INTERVAL:P3D
CALSCALE:GREGORIAN
BEGIN:VEVENT
DTSTART:20210413T143000Z
DTEND:20210413T153000Z
X-MICROSOFT-CDO-ALLDAYEVENT:FALSE
SUMMARY:Hospitality Alliance Meeting
DESCRIPTION:
X-ALT-DESC;FMTTYPE=text/html:
LOCATION:The Chamber 23 Bullsboro Drive\, Newnan\, Ga 30263
UID:e.468.17084
SEQUENCE:3
DTSTAMP:20260425T131157Z
URL:https://www.newnancowetachamber.org/events/details/hospitality-alliance-meeting-04-06-2021-17084
END:VEVENT

END:VCALENDAR
