BEGIN:VCALENDAR
VERSION:2.0
PRODID:-//ChamberMaster//Event Calendar 2.0//EN
METHOD:PUBLISH
X-PUBLISHED-TTL:P3D
REFRESH-INTERVAL:P3D
CALSCALE:GREGORIAN
BEGIN:VEVENT
DTSTART:20230516T153000Z
DTEND:20230516T173000Z
X-MICROSOFT-CDO-ALLDAYEVENT:FALSE
SUMMARY:Leadership Coweta Commencement
DESCRIPTION:Let's celebrate!  The 2023 class of the Chamber's Leadership Coweta program\, presented by Progressive Heating\, Air\, and Plumbing\, is "graduating" and we welcome you to join us in celebration!\n\n\nThis 11-month program\, spearheaded by Rep. Lynn Smith during her tenure as Chamber President over twenty years ago\, has produced thought leaders like George Alexander (Newnan City Council)\, Tom Barron (Lindsey's)\, Brad Binion (Newnan Utilities)\, Samantha Brazie (Progressive Heating\, Air\, and Plumbing)\, Matt Brass (State Senate)\, Amanda Fields (Georgia Economic Development)\, and Vicki Kaiser (Piedmont Newnan). \n\n \n\nParticipants are exposed to the opportunity to gain invaluable insights into topics such as economic development\, diversity and inclusion\, tourism\, talent development\, education and more.\n\nThe program commenced with a weeklong leadership retreat with team building activities\, leadership exploration exercises and networking opportunities. Participants gained access to background information about their community and comprehensive exposure to enrichment activities and a chance to learn more about their community.\n\n \n\nWe are delighted to celebrate this graduating class as they become an inspiration for future generations of board members and community champions! Join us in congratulating them on this milestone achievement!
X-ALT-DESC;FMTTYPE=text/html:<span style="font-size:14px\;"><span style="font-family:tahoma\;">Let&#39\;s celebrate!&nbsp\; The 2023 class of the Chamber&#39\;s Leadership Coweta program\, presented by Progressive Heating\, Air\, and Plumbing\, is &quot\;graduating&quot\; and we welcome you to join us in celebration!</span></span>\n<div><br />\n<span style="font-size:14px\;"><span style="font-family:tahoma\;">This 11-month program\, spearheaded by Rep. Lynn Smith during her tenure as Chamber President over twenty years ago\, has produced thought leaders like George Alexander (Newnan City Council)\, Tom Barron (Lindsey&#39\;s)\, Brad Binion (Newnan Utilities)\, Samantha Brazie (Progressive Heating\, Air\, and Plumbing)\, Matt Brass (State Senate)\, Amanda Fields (Georgia Economic Development)\, and Vicki&nbsp\;Kaiser (Piedmont Newnan).&nbsp\;</span></span><br />\n&nbsp\;</div>\n\n<div><span style="font-size:14px\;"><span style="font-family:tahoma\;">Participants are exposed to the opportunity to gain invaluable insights into topics such as economic development\, diversity and inclusion\, tourism\, talent development\, education and more.</span></span></div>\n\n<div><span style="font-size:14px\;"><span style="font-family:tahoma\;">The program commenced with a weeklong leadership retreat with team building activities\, leadership exploration exercises and networking opportunities. Participants gained access to background information about their community and comprehensive exposure to enrichment activities and a chance to learn more about their community.</span></span><br />\n&nbsp\;</div>\n\n<div><span style="font-size:14px\;"><span style="font-family:tahoma\;">We are delighted to celebrate this graduating class as they become an inspiration for future generations of board members and community champions! Join us in congratulating them on this milestone achievement!</span></span></div>\n
LOCATION:Historic Train Depot 60 East Broad Street Newnan\, GA 30263
UID:e.468.18783
SEQUENCE:3
DTSTAMP:20260422T104437Z
URL:https://www.newnancowetachamber.org/events/details/leadership-coweta-commencement-18783
END:VEVENT

END:VCALENDAR
