BEGIN:VCALENDAR
VERSION:2.0
PRODID:-//ChamberMaster//Event Calendar 2.0//EN
METHOD:PUBLISH
X-PUBLISHED-TTL:P3D
REFRESH-INTERVAL:P3D
CALSCALE:GREGORIAN
BEGIN:VEVENT
DTSTART;VALUE=DATE:20221019
DTEND;VALUE=DATE:20221020
TRANSP:TRANSPARENT
X-MICROSOFT-CDO-ALLDAYEVENT:TRUE
SUMMARY:Love Local Big EXPO
DESCRIPTION:The BIG Expo is back - bigger and better than ever as we relaunch this popular business-to-business AND business-to-consumer showcase. In keeping with the changing needs of local business and industry\, we're combining this year's exposition with a job and career fair arena\, informative breakout sessions for expo participants\, a trunk-or-treat and MORE!  This is one you won't want to miss.   \n\n\n\nChoose from several participation options and enjoy:\n\n\n	Unmatched foot traffic: The Chamber is committed to drawing visitors from far and wide through robust radio and digital streaming advertising\, print ads\, social media tactics\, and a great deal more. \n	A comprehensive visitor leads list with participation in our visitor raffle giveaway.\n	Access to THREE breakout sessions\, including a lunch keynote featuring triple Chick-fil-A franchisee Kevin Williams and his groundbreaking look at workplace dynamics through his book Irrational Kindness (and a FREE copy!).\n	Increased foot-traffic via enticing public add-ons\, including job fair and trunk-or-treat.\n\nWe're leaving the winter wonderland behind and showcasing what it means to truly LOVE Local.  CLICK HERE to view participation options or click REGISTER NOW to reserve your spot!
X-ALT-DESC;FMTTYPE=text/html:<p><span style="font-size:14px\;"><span style="font-family:tahoma\;">The BIG Expo is back - bigger and better than ever as we relaunch this popular business-to-business AND business-to-consumer showcase. In keeping with the changing needs of local business and industry\, we&#39\;re combining this year&#39\;s exposition with a job and career fair arena\, informative breakout sessions for expo participants\, a trunk-or-treat and MORE!&nbsp\; This is one you won&#39\;t want to miss.&nbsp\; &nbsp\;<br />\n<br />\nChoose from several participation options and enjoy:</span></span></p>\n\n<ol>\n	<li><span style="font-size:14px\;"><span style="font-family:tahoma\;"><strong>Unmatched foot traffic</strong>: The Chamber is committed to drawing visitors from far and wide through robust radio and digital streaming advertising\, print ads\, social media tactics\, and a great deal more.&nbsp\;</span></span></li>\n	<li><span style="font-size:14px\;"><span style="font-family:tahoma\;">A <strong>comprehensive visitor leads list</strong> with participation in our visitor raffle giveaway.</span></span></li>\n	<li><span style="font-size:14px\;"><span style="font-family:tahoma\;">Access to THREE breakout sessions\, including a <strong>lunch keynote featuring triple </strong><strong>Chick-fil-A&nbsp\;franchisee Kevin Williams</strong> and his groundbreaking look at workplace dynamics through his book <em>Irrational Kindness </em>(and a FREE copy!).</span></span></li>\n	<li><span style="font-size:14px\;"><span style="font-family:tahoma\;"><strong>Increased foot-traffic</strong> via enticing public add-ons\, including job fair and trunk-or-treat.</span></span></li>\n</ol>\n<span style="font-size:14px\;"><span style="font-family:tahoma\;">We&#39\;re leaving the winter wonderland behind and showcasing what it means to truly LOVE Local.&nbsp\; <b><a href="https://www.newnancowetachamber.org/love-local-big-expo"><span style="color:#0000FF\;">CLICK HERE</span></a> to view participation options or click <span style="color:#B22222\;">REGISTER NOW</span> to reserve your spot!</b></span></span>
LOCATION:Coweta County Fairgrounds 275 Pine Rd | Newnan 30263
UID:e.468.18465
SEQUENCE:3
DTSTAMP:20260422T202951Z
URL:https://www.newnancowetachamber.org/events/details/love-local-big-expo-18465
END:VEVENT

END:VCALENDAR
