BEGIN:VCALENDAR
VERSION:2.0
PRODID:-//ChamberMaster//Event Calendar 2.0//EN
METHOD:PUBLISH
X-PUBLISHED-TTL:P3D
REFRESH-INTERVAL:P3D
CALSCALE:GREGORIAN
BEGIN:VEVENT
DTSTART;VALUE=DATE:20221019
DTEND;VALUE=DATE:20221020
TRANSP:TRANSPARENT
X-MICROSOFT-CDO-ALLDAYEVENT:TRUE
SUMMARY:LOVE Local Business Breakouts
DESCRIPTION:Join us on Wednesday\, October 19th at our LOVE Local Business Expo and learn from three industry leaders on the topics of Finding and Retaining Talent\, Operational Excellence and Inspired Leadership\, and Marketing Strategies.\n\n\n\nRegister for each independently or choose all three for a bundled discount!  Whatever you do\, don't delay\, as space is LIMITED!\n\n\n\n$20 | Wednesday | October 19 | 10:30AM\n\nAlways Be Hiring - Finding and Retaining Talent in Challenging Times.\n\nFinding and hiring top talent for key jobs is challenging enough. Retaining talented employees today adds additional challenge for leaders seeking to successfully grow their business. Unfilled jobs impact business goals\, productivity\, and employees. Bad hires can have significant costs as well. \n\nHow can business owners\, managers\, and leaders hire and retain top talent for their key jobs? In this session\, you will learn a formula for hiring and retaining the best: \n\n  Finding and recruiting talent in a competitive market\n\n  Rethinking job and candidate requirements\n\n  Planning and conducting interviews for key jobs \n\n  Avoiding interviewer and hiring mistakes\n\n  Selecting and onboarding key talent\n\n  Recruiting to retain talent \n\n\n\nSession presenter\, Don Lang\, Blue Key Partners\, is co-author of Hire the Best\, a new book designed for managers\, team leaders\, and anyone involved in finding\, assessing\, selecting\, and retaining talent. \n\n\n\nWith a background in human resources\, recruiting\, operations management\, marketing and administration\, Don has over 20 years of experience working with leaders on hiring\, developing\, coaching\, and retaining leaders.  He has taught leadership and talent management in the Executive MBA program at Kennesaw State University.  \n\n\n\n$35 | Wednesday | October 19 | 11:30AM\n\nJoin us for a luncheon featuring Kevin Williams\, triple Chick-fil-A franchisee that has the rare privilege of running three restaurants in the city of Canton\, GA. Kevin is a husband\, father\, community leader\, friend\, and waffle fry cook that has a passion for inspiring the next generation and providing his team with the most amazing place to work. Kevin has a drive for seeing other's dreams come true while he provides them a place to learn\, fail\, and launch into their future. Kevin is an author\, speaker\, podcaster\, and investor in the next generation which is the inspiration behind his book\, Irrational Kindness. Register by October 3rd and get Kevin's Book FREE!\n\n$20 | Wednesday\, October 19 | 1:30PM\n\n2018 nominee for the Chamber's Small Business of the Year and highly sought-after marketing guru\, Ellie White-Stevens\, Dirt1X founder\, has over sixteen years experience in advertising\, sales\, marketing and corporate communications. Ellie's special sauce is the ability to think both analytically and creatively at the same time which gives her clients the best possible marketing outcomes. Join us for an informative breakout session where Ellie will share some key elements of marketing success.
X-ALT-DESC;FMTTYPE=text/html:<div><span style="font-family: tahoma\; font-size: 14px\;">Join us on Wednesday\, October 19th at our LOVE Local Business Expo and learn from three industry leaders on the topics of Finding and Retaining Talent\, Operational Excellence and Inspired Leadership\, and Marketing Strategies.</span></div>\n\n<p><br />\n<span style="font-size:14px\;"><span style="font-family:tahoma\;">Register for each independently or choose all three for a bundled discount!&nbsp\; Whatever you do\, don&#39\;t delay\, as space is LIMITED!<br />\n<br />\n<strong>$20 | Wednesday | October 19 | 10:30AM</strong></span></span><br />\n<span style="font-size:14px\;"><span style="font-family:tahoma\;"><strong>Always Be Hiring - Finding and Retaining Talent in Challenging Times</strong>.<br />\nFinding and hiring top talent for key jobs is challenging enough.&nbsp\;Retaining talented employees today adds additional challenge for leaders seeking to successfully grow their business.&nbsp\;Unfilled jobs impact business goals\, productivity\, and employees.&nbsp\;Bad hires can have significant costs as well.&nbsp\;</span></span></p>\n\n<p><span style="font-size:14px\;"><span style="font-family:tahoma\;">How can business owners\, managers\, and leaders hire and retain top talent for their key jobs? In this session\, you will learn a formula for hiring and retaining the best:&nbsp\;</span></span></p>\n\n<div style="color: rgb(51\, 51\, 51)\; font-family: sans-serif\, Arial\, Verdana\, &quot\;Trebuchet MS&quot\;\; font-size: 13px\;"><span style="font-size:14px\;"><span style="font-family:tahoma\;">&bull\;<span style="white-space: pre\;"> </span>Finding and recruiting talent in a competitive market</span></span></div>\n\n<div style="color: rgb(51\, 51\, 51)\; font-family: sans-serif\, Arial\, Verdana\, &quot\;Trebuchet MS&quot\;\; font-size: 13px\;"><span style="font-size:14px\;"><span style="font-family:tahoma\;">&bull\;<span style="white-space: pre\;"> </span>Rethinking job and candidate requirements</span></span></div>\n\n<div style="color: rgb(51\, 51\, 51)\; font-family: sans-serif\, Arial\, Verdana\, &quot\;Trebuchet MS&quot\;\; font-size: 13px\;"><span style="font-size:14px\;"><span style="font-family:tahoma\;">&bull\;<span style="white-space: pre\;"> </span>Planning and conducting interviews for key jobs&nbsp\;</span></span></div>\n\n<div style="color: rgb(51\, 51\, 51)\; font-family: sans-serif\, Arial\, Verdana\, &quot\;Trebuchet MS&quot\;\; font-size: 13px\;"><span style="font-size:14px\;"><span style="font-family:tahoma\;">&bull\;<span style="white-space: pre\;"> </span>Avoiding interviewer and hiring mistakes</span></span></div>\n\n<div style="color: rgb(51\, 51\, 51)\; font-family: sans-serif\, Arial\, Verdana\, &quot\;Trebuchet MS&quot\;\; font-size: 13px\;"><span style="font-size:14px\;"><span style="font-family:tahoma\;">&bull\;<span style="white-space: pre\;"> </span>Selecting and onboarding key talent</span></span></div>\n\n<div style="color: rgb(51\, 51\, 51)\; font-family: sans-serif\, Arial\, Verdana\, &quot\;Trebuchet MS&quot\;\; font-size: 13px\;"><span style="font-size:14px\;"><span style="font-family:tahoma\;">&bull\;<span style="white-space: pre\;"> </span>Recruiting to retain talent&nbsp\;</span></span><br />\n<br />\n<span style="font-size:14px\;"><span style="font-family:tahoma\;">Session presenter\, Don Lang\, Blue Key Partners\, is co-author of Hire the Best\, a new book designed for managers\, team leaders\, and anyone involved in finding\, assessing\, selecting\, and retaining talent.&nbsp\;</span></span><br />\n<br />\n<span style="font-size:14px\;"><span style="font-family:tahoma\;">With a background in human resources\, recruiting\, operations management\, marketing and administration\, Don has over 20 years of experience working with leaders on hiring\, developing\, coaching\, and retaining leaders.&nbsp\; He has taught leadership and talent management in the Executive MBA program at Kennesaw State University.&nbsp\;&nbsp\;<br />\n<br />\n<span style="color: rgb(55\, 32\, 18)\; background-color: rgb(255\, 255\, 255)\;"><strong>$35 | Wednesday | October 19 | 11:30AM</strong></span><br />\nJoin us for a luncheon featuring&nbsp\;<span style="background-color: rgb(255\, 255\, 255)\;"><span style="white-space: pre-wrap\;"><strong>Kevin Williams</strong>\, triple Chick-fil-A franchisee that has the rare privilege of running three restaurants in the city of Canton\, GA. Kevin is a husband\, father\, community leader\, friend\, and waffle fry cook that has a passion for inspiring the next generation and providing his team with the most amazing place to work. Kevin has a drive for seeing other&rsquo\;s dreams come true while he provides them a place to learn\, fail\, and launch into their future. Kevin is an author\, speaker\, podcaster\, and investor in the next generation which is the inspiration behind his book\, Irrational Kindness. <u><em>Register by October 3rd and get Kevin&#39\;s Book FREE!</em></u></span></span></span></span></div>\n\n<p><span style="font-size:14px\;"><span style="font-family:tahoma\;"><span style="background-color: rgb(255\, 255\, 255)\;"><span style="white-space: pre-wrap\;"><strong>$20 | Wednesday\, October 19 | 1:30PM</strong></span></span><br />\n2018 nominee for the Chamber&#39\;s Small Business of the Year and highly sought-after marketing guru\, <strong>Ellie White-Stevens</strong>\, Dirt1X founder\,&nbsp\;has over sixteen years experience in advertising\, sales\, marketing and corporate communications. Ellie&rsquo\;s special sauce is the ability to think both analytically and creatively at the same time&mdash\;which gives her clients the best possible marketing outcomes. Join us for an informative breakout session where Ellie will share some key elements of&nbsp\;marketing success.</span></span></p>\n
LOCATION:Coweta County Fairgrounds 275 Pine Road Newnan\, GA 30263
UID:e.468.18553
SEQUENCE:3
DTSTAMP:20260422T203109Z
URL:https://www.newnancowetachamber.org/events/details/love-local-business-breakouts-18553
END:VEVENT

END:VCALENDAR
