BEGIN:VCALENDAR
VERSION:2.0
PRODID:-//ChamberMaster//Event Calendar 2.0//EN
METHOD:PUBLISH
X-PUBLISHED-TTL:P3D
REFRESH-INTERVAL:P3D
CALSCALE:GREGORIAN
BEGIN:VEVENT
DTSTART:20221019T193000Z
DTEND:20221019T233000Z
X-MICROSOFT-CDO-ALLDAYEVENT:FALSE
SUMMARY:LOVE Local Business Expo Event Tickets
DESCRIPTION:Join us on Wednesday\, October 19 at the Coweta County fairgrounds for the largest and most prominent business-consumer expo! Whether you're in the market for a new A/C unit\, looking for a great mortgage lender\, or just want to browse dozens of leading service providers for almost any need\, the LOVE Local Expo is the place to be! New this year - job seekers can visit the job and career fair arena featuring Coweta's top employers\, and you can bring the kiddos for an extra special trunk-or-treat with local community service organizations. There's something for everyone!
X-ALT-DESC;FMTTYPE=text/html:<span style="font-size:14px\;"><span style="font-family:tahoma\;"><span style="letter-spacing: 0.5px\; background-color: rgb(255\, 255\, 255)\;">Join us on Wednesday\, October 19 at the Coweta County fairgrounds for the largest and most prominent business-consumer expo! Whether you&#39\;re in the market for a new A/C unit\, looking for a great mortgage lender\, or just want to browse dozens of leading service providers for almost any need\, the LOVE Local Expo is the place to be! New this year - job seekers can visit the job and career fair arena featuring Coweta&#39\;s top employers\, and you can bring the kiddos for an extra special trunk-or-treat with local community service organizations. There&#39\;s something for everyone!</span></span></span>
LOCATION:Coweta County Fairgrounds 275 Pine Road Newnan\, GA 30263
UID:e.468.18557
SEQUENCE:3
DTSTAMP:20260422T203156Z
URL:https://www.newnancowetachamber.org/events/details/love-local-business-expo-event-tickets-18557
END:VEVENT

END:VCALENDAR
