BEGIN:VCALENDAR
VERSION:2.0
PRODID:-//ChamberMaster//Event Calendar 2.0//EN
METHOD:PUBLISH
X-PUBLISHED-TTL:P3D
REFRESH-INTERVAL:P3D
CALSCALE:GREGORIAN
BEGIN:VEVENT
DTSTART:20260825T153000Z
DTEND:20260825T170000Z
X-MICROSOFT-CDO-ALLDAYEVENT:FALSE
SUMMARY:Lunch and Learn
DESCRIPTION:Join us for this year's Lunch & Learn series\, sponsored by Country Fried Creative\, where business growth meets fun and games!\n\n\n\nMark your calendar and sign up today! Don't miss this exciting mix of learning\, strategy\, and fun plus great food and networking!
X-ALT-DESC;FMTTYPE=text/html:<span style="font-size: 16px\;"><span style="font-family: arial\;"><span style="color: rgb(0\, 0\, 0)\;">Join us for this year&rsquo\;s<strong>&nbsp\;</strong></span><strong><span class="markup1qzyxfb" data-markjs="true" data-ogab="" data-ogac="" data-ogsb="" data-ogsc="" style="color: inherit\; font-style: inherit\; font-variant: inherit\; font-weight: inherit\; font-stretch: inherit\; line-height: inherit\; font-optical-sizing: inherit\; font-size-adjust: inherit\; font-kerning: inherit\; font-feature-settings: inherit\; font-variation-settings: inherit\; font-language-override: inherit\; border: 0px\; margin: 0px\; padding: 0px\; vertical-align: baseline\;">Lunch</span><span style="color: rgb(0\, 0\, 0)\;">&nbsp\;&amp\;&nbsp\;</span><span class="markj8e7tix1t" data-markjs="true" data-ogab="" data-ogac="" data-ogsb="" data-ogsc="" style="color: inherit\; font-style: inherit\; font-variant: inherit\; font-weight: inherit\; font-stretch: inherit\; line-height: inherit\; font-optical-sizing: inherit\; font-size-adjust: inherit\; font-kerning: inherit\; font-feature-settings: inherit\; font-variation-settings: inherit\; font-language-override: inherit\; border: 0px\; margin: 0px\; padding: 0px\; vertical-align: baseline\;">Learn</span></strong><span style="color: rgb(0\, 0\, 0)\;">&nbsp\;series\, sponsored by</span>&nbsp\;<strong>Country Fried Creative</strong></span></span><span style="font-size: 16px\;"><span style="font-family: arial\;"><span style="color: rgb(0\, 0\, 0)\;">\, where business growth meets fun&nbsp\;</span><span class="markxvciwyyzy" data-markjs="true" data-ogab="" data-ogac="" data-ogsb="" data-ogsc="" style="color: inherit\; font-style: inherit\; font-variant: inherit\; font-weight: inherit\; font-stretch: inherit\; line-height: inherit\; font-optical-sizing: inherit\; font-size-adjust: inherit\; font-kerning: inherit\; font-feature-settings: inherit\; font-variation-settings: inherit\; font-language-override: inherit\; border: 0px\; margin: 0px\; padding: 0px\; vertical-align: baseline\;">and</span><span style="color: rgb(0\, 0\, 0)\;">&nbsp\;games!</span></span></span><br />\n<br />\n<span style="font-family:arial\;"><span style="font-size:16px\;"><span style="color: rgb(0\, 0\, 0)\;">Mark your calendar&nbsp\;</span><span class="markxvciwyyzy" data-markjs="true" data-ogab="" data-ogac="" data-ogsb="" data-ogsc="" style="color: inherit\; font-style: inherit\; font-variant: inherit\; font-weight: inherit\; font-stretch: inherit\; line-height: inherit\; font-optical-sizing: inherit\; font-size-adjust: inherit\; font-kerning: inherit\; font-feature-settings: inherit\; font-variation-settings: inherit\; font-language-override: inherit\; border: 0px\; margin: 0px\; padding: 0px\; vertical-align: baseline\;">and</span><span style="color: rgb(0\, 0\, 0)\;">&nbsp\;sign up today! Don&rsquo\;t miss this exciting mix of&nbsp\;</span><span class="markj8e7tix1t" data-markjs="true" data-ogab="" data-ogac="" data-ogsb="" data-ogsc="" style="color: inherit\; font-style: inherit\; font-variant: inherit\; font-weight: inherit\; font-stretch: inherit\; line-height: inherit\; font-optical-sizing: inherit\; font-size-adjust: inherit\; font-kerning: inherit\; font-feature-settings: inherit\; font-variation-settings: inherit\; font-language-override: inherit\; border: 0px\; margin: 0px\; padding: 0px\; vertical-align: baseline\;">learn</span><span style="color: rgb(0\, 0\, 0)\;">ing\, strategy\,&nbsp\;</span><span class="markxvciwyyzy" data-markjs="true" data-ogab="" data-ogac="" data-ogsb="" data-ogsc="" style="color: inherit\; font-style: inherit\; font-variant: inherit\; font-weight: inherit\; font-stretch: inherit\; line-height: inherit\; font-optical-sizing: inherit\; font-size-adjust: inherit\; font-kerning: inherit\; font-feature-settings: inherit\; font-variation-settings: inherit\; font-language-override: inherit\; border: 0px\; margin: 0px\; padding: 0px\; vertical-align: baseline\;">and</span><span style="color: rgb(0\, 0\, 0)\;">&nbsp\;fun&mdash\;plus great food&nbsp\;</span><span class="markxvciwyyzy" data-markjs="true" data-ogab="" data-ogac="" data-ogsb="" data-ogsc="" style="color: inherit\; font-style: inherit\; font-variant: inherit\; font-weight: inherit\; font-stretch: inherit\; line-height: inherit\; font-optical-sizing: inherit\; font-size-adjust: inherit\; font-kerning: inherit\; font-feature-settings: inherit\; font-variation-settings: inherit\; font-language-override: inherit\; border: 0px\; margin: 0px\; padding: 0px\; vertical-align: baseline\;">and</span><span style="color: rgb(0\, 0\, 0)\;">&nbsp\;networking!</span></span></span>
LOCATION:The Chamber Office 23 Bullsboro Dr Newnan\, GA
UID:e.468.21488
SEQUENCE:3
DTSTAMP:20260424T135220Z
URL:https://www.newnancowetachamber.org/events/details/lunch-and-learn-21488
END:VEVENT

END:VCALENDAR
