BEGIN:VCALENDAR
VERSION:2.0
PRODID:-//ChamberMaster//Event Calendar 2.0//EN
METHOD:PUBLISH
X-PUBLISHED-TTL:P3D
REFRESH-INTERVAL:P3D
CALSCALE:GREGORIAN
BEGIN:VEVENT
DTSTART:20220223T140000Z
DTEND:20220223T153000Z
X-MICROSOFT-CDO-ALLDAYEVENT:FALSE
SUMMARY:Member Connect
DESCRIPTION:Member Connect is designed for new or re-engaging members! This is an interactive opportunity to learn more about Chamber events\, programs\, alliances\, cost-saving benefits\, and development opportunities that are exclusively available to Newnan-Coweta Chamber members! Join us for the most informative and FUN breakfast of the year.\n\n\n\nThank you to our sponsor\, Shepard Financial. Breakfast is provided.
X-ALT-DESC;FMTTYPE=text/html:<span style="font-size:14px\;"><span style="font-family:tahoma\;"><span style="caret-color: rgb(33\, 33\, 33)\; color: rgb(33\, 33\, 33)\; text-align: justify\; text-size-adjust: auto\;">Member Connect is designed for new or re-engaging members! This is an interactive opportunity to learn more about Chamber events\, programs\, alliances\, cost-saving benefits\, and development opportunities that are exclusively available to Newnan-Coweta Chamber&nbsp\;members! Join us for the most informative and FUN breakfast of the year.<br />\n<br />\nThank you to our sponsor\, Shepard Financial. Breakfast is provided.&nbsp\;</span></span></span>
LOCATION:The Chamber 23 Bullsboro Drive
UID:e.468.18177
SEQUENCE:3
DTSTAMP:20260424T203959Z
URL:https://www.newnancowetachamber.org/events/details/member-connect-18177
END:VEVENT

END:VCALENDAR
