BEGIN:VCALENDAR
VERSION:2.0
PRODID:-//ChamberMaster//Event Calendar 2.0//EN
METHOD:PUBLISH
X-PUBLISHED-TTL:P3D
REFRESH-INTERVAL:P3D
CALSCALE:GREGORIAN
BEGIN:VEVENT
DTSTART:20220616T130000Z
DTEND:20220616T143000Z
X-MICROSOFT-CDO-ALLDAYEVENT:FALSE
SUMMARY:Member Connect
DESCRIPTION:Designed with our new or reengaging members in mind\, Member Connect presents an interactive opportunity to learn more about the events\, programs\, alliances\, cost-saving benefits\, and development opportunities that are exclusively available to Newnan-Coweta Chamber members! \n\n\n\nThanks to this month's sponsor\, Shepard Financial. This is a FREE event for Chamber members\, which includes breakfast provided by Chick-Fil-A Coweta Crossroads. Reservations are required.
X-ALT-DESC;FMTTYPE=text/html:<div class="cms-design-panel cms-widget published " id="content-186363" style="box-sizing: border-box\; line-height: 1.2\; list-style-type: none !important\; padding: 0px !important\; list-style-image: none !important\; border: none !important\;box-sizing: border-box\;">\n<p style="box-sizing: border-box\; margin: 0px 0px 10px\; font-size: 1rem\; line-height: 1.2\;"><span style="font-family:tahoma\;"><span style="box-sizing: border-box\; font-size: 14px\;"><span style="box-sizing: border-box\;">Designed with our new or reengaging members in mind\, Member Connect presents an interactive opportunity to learn more about the events\, programs\, alliances\, cost-saving benefits\, and development opportunities that are exclusively available to Newnan-Coweta Chamber&nbsp\;members!&nbsp\;</span><br style="box-sizing: border-box\; font-family: tahoma\; font-size: 13px\;" />\n<br style="box-sizing: border-box\; font-family: tahoma\; font-size: 13px\;" />\n<span style="box-sizing: border-box\;">Thanks to this month&#39\;s sponsor\, Shepard Financial. This is a FREE event for Chamber members\, which includes breakfast provided by Chick-Fil-A Coweta Crossroads.&nbsp\;</span><span style="box-sizing: border-box\;">Reservations are required.</span></span></span></p>\n</div>\n
LOCATION:The Chamber 23 Bullsboro Drive Newnan\, GA 30263
UID:e.468.18417
SEQUENCE:3
DTSTAMP:20260424T135157Z
URL:https://www.newnancowetachamber.org/events/details/member-connect-18417
END:VEVENT

END:VCALENDAR
