BEGIN:VCALENDAR
VERSION:2.0
PRODID:-//ChamberMaster//Event Calendar 2.0//EN
METHOD:PUBLISH
X-PUBLISHED-TTL:P3D
REFRESH-INTERVAL:P3D
CALSCALE:GREGORIAN
BEGIN:VEVENT
DTSTART:20220922T130000Z
DTEND:20220922T143000Z
X-MICROSOFT-CDO-ALLDAYEVENT:FALSE
SUMMARY:Member Connect
DESCRIPTION:Designed with our new or reengaging members in mind\, Member Connect presents an interactive opportunity to learn more about the events\, programs\, alliances\, cost-saving benefits\, and development opportunities that are exclusively available to Newnan-Coweta Chamber members! \n\n\n\nThanks to this month's sponsor\, American Family Insurance - Renee Horton Agency. This is a FREE event for Chamber members\, which includes breakfast provided by Chick-Fil-A Coweta Crossroads. Reservations are required.
X-ALT-DESC;FMTTYPE=text/html:<span style="font-family: tahoma\; font-size: 14px\; box-sizing: border-box\;">Designed with our new or reengaging members in mind\, Member Connect presents an interactive opportunity to learn more about the events\, programs\, alliances\, cost-saving benefits\, and development opportunities that are exclusively available to Newnan-Coweta Chamber&nbsp\;members!&nbsp\;</span><br style="font-family: tahoma\; box-sizing: border-box\;" />\n<br style="font-family: tahoma\; box-sizing: border-box\;" />\n<span style="font-family: tahoma\; font-size: 14px\; box-sizing: border-box\;">Thanks to this month&#39\;s sponsor\, American Family Insurance - Renee Horton Agency. This is a FREE event for Chamber members\, which includes breakfast provided by Chick-Fil-A Coweta Crossroads.&nbsp\;</span><span style="font-family: tahoma\; font-size: 14px\; box-sizing: border-box\;">Reservations are required.</span>
LOCATION:The Chamber 23 Bullsboro Drive Newnan\, GA 30263
UID:e.468.18418
SEQUENCE:3
DTSTAMP:20260422T221331Z
URL:https://www.newnancowetachamber.org/events/details/member-connect-18418
END:VEVENT

END:VCALENDAR
