BEGIN:VCALENDAR
VERSION:2.0
PRODID:-//ChamberMaster//Event Calendar 2.0//EN
METHOD:PUBLISH
X-PUBLISHED-TTL:P3D
REFRESH-INTERVAL:P3D
CALSCALE:GREGORIAN
BEGIN:VEVENT
DTSTART:20260512T130000Z
DTEND:20260513T023000Z
X-MICROSOFT-CDO-ALLDAYEVENT:FALSE
SUMMARY:Member Connect
DESCRIPTION:Member Connect is your gateway to meaningful relationships and business growth! This signature event is designed to bring Chamber members together in an energizing and collaborative setting\, fostering connections that matter.\n\n\n\nJoin us for engaging conversations\, valuable insights\, and the chance to showcase your business while learning from others. Whether you're a seasoned professional or new to the Chamber\, Member Connect is where ideas spark and partnerships thrive. Let's grow stronger\, together!\n\n\n\nMember Connect presents an interactive opportunity to learn more about the events\, programs\, alliances\, cost-saving benefits\, and development opportunities that are exclusively available to Newnan-Coweta Chamber members! These informative gatherings benefit YOU and YOUR BUSINESS as we explore and discover opportunities for involvement and return on investment\, while connecting to Chamber benefits and advantages to help grow your company. Your passport to prosperity awaits!\n\n\n\nThis is a FREE event for Chamber members\, which includes food provided by Coweta Crossroads Chick-fil-A. Reservations are required.
X-ALT-DESC;FMTTYPE=text/html:<span style="font-family: tahoma\; font-size: 16px\;">Member Connect is your gateway to&nbsp\;</span><strong style="font-family: tahoma\; font-size: 16px\;">meaningful relationships and business growth!&nbsp\;</strong><span style="font-family: tahoma\; font-size: 16px\;">This signature event is designed to bring Chamber members together in an energizing and collaborative setting\, fostering connections that matter.</span><br style="font-family: tahoma\; font-size: 16px\;" />\n<br style="font-family: tahoma\; font-size: 16px\;" />\n<span style="font-family: tahoma\; font-size: 16px\;">Join us for engaging conversations\, valuable insights\, and the chance to showcase your business while learning from others. Whether you&rsquo\;re a seasoned professional or new to the Chamber\, Member Connect is where ideas spark and partnerships thrive. Let&rsquo\;s grow stronger\, together!</span><br style="font-family: tahoma\; font-size: 16px\;" />\n<br style="font-family: tahoma\; font-size: 16px\;" />\n<span style="font-family: tahoma\; font-size: 16px\;">Member Connect presents an&nbsp\;</span><strong style="font-family: tahoma\; font-size: 16px\;">interactive opportunity to learn more about the events\, programs\, alliances\, cost-saving benefits\, and development opportunities</strong><span style="font-family: tahoma\; font-size: 16px\;">&nbsp\;that are exclusively available to Newnan-Coweta Chamber members! These informative gatherings benefit&nbsp\;</span><strong style="font-family: tahoma\; font-size: 16px\;">YOU and YOUR BUSINESS</strong><span style="font-family: tahoma\; font-size: 16px\;">&nbsp\;as we explore and discover opportunities for involvement and return on investment\, while connecting to Chamber benefits and advantages to help grow your company. Your passport to prosperity awaits!</span><br style="font-family: tahoma\; font-size: 16px\;" />\n<br style="font-family: tahoma\; font-size: 16px\;" />\n<span style="font-family: tahoma\; font-size: 16px\;">This is a&nbsp\;</span><strong style="font-family: tahoma\; font-size: 16px\;">FREE</strong><span style="font-family: tahoma\; font-size: 16px\;">&nbsp\;event for Chamber members\, which includes food provided by Coweta Crossroads Chick-fil-A. Reservations are required.</span>
LOCATION:The Chamber 23 Bullsboro Dr Newnan\, GA
UID:e.468.21476
SEQUENCE:3
DTSTAMP:20260424T085643Z
URL:https://www.newnancowetachamber.org/events/details/member-connect-21476
END:VEVENT

END:VCALENDAR
