BEGIN:VCALENDAR
VERSION:2.0
PRODID:-//ChamberMaster//Event Calendar 2.0//EN
METHOD:PUBLISH
X-PUBLISHED-TTL:P3D
REFRESH-INTERVAL:P3D
CALSCALE:GREGORIAN
BEGIN:VEVENT
DTSTART:20201117T143000Z
DTEND:20201117T153000Z
X-MICROSOFT-CDO-ALLDAYEVENT:FALSE
SUMMARY:Non-Profit Alliance
DESCRIPTION:Join us at the Chamber for a roundtable discussion highlighting the important and beneficial relationship between Coweta's private and non-profit business sectors. Due to social distancing\, this meeting is limited to 12 in-person attendees\, with accommodations for virtual attendees. Masks are required.
X-ALT-DESC;FMTTYPE=text/html:Join us at the Chamber for a roundtable discussion highlighting the important and beneficial relationship between Coweta's private and non-profit business sectors. Due to social distancing\, this meeting is limited to 12 in-person attendees\, with accommodations for virtual attendees. Masks are required.
LOCATION:The Newnan-Coweta Chamber 23 Bullsboro Dr. | Newnan
UID:e.468.16837
SEQUENCE:3
DTSTAMP:20260425T205039Z
URL:https://www.newnancowetachamber.org/events/details/non-profit-alliance-11-17-2020-16837
END:VEVENT

END:VCALENDAR
