BEGIN:VCALENDAR
VERSION:2.0
PRODID:-//ChamberMaster//Event Calendar 2.0//EN
METHOD:PUBLISH
X-PUBLISHED-TTL:P3D
REFRESH-INTERVAL:P3D
CALSCALE:GREGORIAN
BEGIN:VEVENT
DTSTART:20260513T133000Z
DTEND:20260513T144500Z
X-MICROSOFT-CDO-ALLDAYEVENT:FALSE
SUMMARY:Non-Profit Alliance Meeting
DESCRIPTION:Grant Writing\n\nMore information coming soon!
X-ALT-DESC;FMTTYPE=text/html:<strong><span style="font-size: 12pt\; font-family: Arial\, sans-serif\;">Grant Writing</span></strong><br />\n<span style="font-size: 12pt\; font-family: Arial\, sans-serif\;"><span style="font-size:12px\;">More information coming soon!</span></span>
LOCATION:
UID:e.468.21478
SEQUENCE:3
DTSTAMP:20260421T070609Z
URL:https://www.newnancowetachamber.org/events/details/non-profit-alliance-meeting-05-13-2026-21478
END:VEVENT

END:VCALENDAR
