BEGIN:VCALENDAR
VERSION:2.0
PRODID:-//ChamberMaster//Event Calendar 2.0//EN
METHOD:PUBLISH
X-PUBLISHED-TTL:P3D
REFRESH-INTERVAL:P3D
CALSCALE:GREGORIAN
BEGIN:VEVENT
DTSTART:20260812T133000Z
DTEND:20260812T144500Z
X-MICROSOFT-CDO-ALLDAYEVENT:FALSE
SUMMARY:Non-Profit Alliance Meeting
DESCRIPTION:How to fun fundraise well-Donor Retention-Next generation of donors\n\nMore information coming soon!
X-ALT-DESC;FMTTYPE=text/html:<strong><span style="font-size: 12pt\; font-family: Arial\, sans-serif\;">How to fun fundraise well-Donor Retention-Next generation of donors</span></strong><br />\n<span style="font-size: 12pt\; font-family: Arial\, sans-serif\;"><span style="font-size:12px\;">More information coming soon!</span></span>
LOCATION:The Chamber Office 23 Bullsboro Dr Newnan\, GA
UID:e.468.21483
SEQUENCE:3
DTSTAMP:20260424T135605Z
URL:https://www.newnancowetachamber.org/events/details/non-profit-alliance-meeting-08-12-2026-21483
END:VEVENT

END:VCALENDAR
