BEGIN:VCALENDAR
VERSION:2.0
PRODID:-//ChamberMaster//Event Calendar 2.0//EN
METHOD:PUBLISH
X-PUBLISHED-TTL:P3D
REFRESH-INTERVAL:P3D
CALSCALE:GREGORIAN
BEGIN:VEVENT
DTSTART:20240814T133000Z
DTEND:20240814T143000Z
X-MICROSOFT-CDO-ALLDAYEVENT:FALSE
SUMMARY:Non-Profit Alliance Meeting
DESCRIPTION:Monthly Non-Profit roundtable.
X-ALT-DESC;FMTTYPE=text/html:Monthly Non-Profit roundtable.
LOCATION:The Chamber 23 Bullsboro Dr. Newnan\, GA 30263
UID:e.468.19918
SEQUENCE:3
DTSTAMP:20260420T034531Z
URL:https://www.newnancowetachamber.org/events/details/non-profit-alliance-meeting-08-14-2024-19918
END:VEVENT

END:VCALENDAR
