BEGIN:VCALENDAR
VERSION:2.0
PRODID:-//ChamberMaster//Event Calendar 2.0//EN
METHOD:PUBLISH
X-PUBLISHED-TTL:P3D
REFRESH-INTERVAL:P3D
CALSCALE:GREGORIAN
BEGIN:VEVENT
DTSTART:20260909T133000Z
DTEND:20260909T144500Z
X-MICROSOFT-CDO-ALLDAYEVENT:FALSE
SUMMARY:Non-Profit Alliance Meeting
DESCRIPTION:Leadership Development / Compassion Fatigue / Burnout / Selfcare\n\nMore information coming soon!
X-ALT-DESC;FMTTYPE=text/html:<span style="font-size: 12pt\; font-family: Arial\, sans-serif\;"><strong>Leadership Development / Compassion Fatigue / Burnout / Selfcare</strong><br />\n<span style="font-size:12px\;">More information coming soon!</span></span>
LOCATION:The Chamber Office 23 Bullsboro Dr Newnan\, GA
UID:e.468.21495
SEQUENCE:3
DTSTAMP:20260424T153451Z
URL:https://www.newnancowetachamber.org/events/details/non-profit-alliance-meeting-09-09-2026-21495
END:VEVENT

END:VCALENDAR
