BEGIN:VCALENDAR
VERSION:2.0
PRODID:-//ChamberMaster//Event Calendar 2.0//EN
METHOD:PUBLISH
X-PUBLISHED-TTL:P3D
REFRESH-INTERVAL:P3D
CALSCALE:GREGORIAN
BEGIN:VEVENT
DTSTART:20261014T133000Z
DTEND:20261014T144500Z
X-MICROSOFT-CDO-ALLDAYEVENT:FALSE
SUMMARY:Non-Profit Alliance Meeting
DESCRIPTION:All things Board development\n\nMore information coming soon!
X-ALT-DESC;FMTTYPE=text/html:<span style="font-size: 12pt\; font-family: Arial\, sans-serif\;"><strong>All things Board development</strong></span><br />\n<span style="font-size: 12px\;">More information coming soon!</span>
LOCATION:The Chamber Office 23 Bullsboro Dr Newnan\, GA
UID:e.468.21504
SEQUENCE:3
DTSTAMP:20260424T174330Z
URL:https://www.newnancowetachamber.org/events/details/non-profit-alliance-meeting-10-14-2026-21504
END:VEVENT

END:VCALENDAR
