BEGIN:VCALENDAR
VERSION:2.0
PRODID:-//ChamberMaster//Event Calendar 2.0//EN
METHOD:PUBLISH
X-PUBLISHED-TTL:P3D
REFRESH-INTERVAL:P3D
CALSCALE:GREGORIAN
BEGIN:VEVENT
DTSTART:20260610T133000Z
DTEND:20260610T144500Z
X-MICROSOFT-CDO-ALLDAYEVENT:FALSE
SUMMARY:Non-Profit Alliance Meeting
DESCRIPTION:Social Media / Marketing / AI / All Things Digital\n\nMore information coming soon!
X-ALT-DESC;FMTTYPE=text/html:<strong><span style="font-size: 12pt\; font-family: Arial\, sans-serif\;">Social Media / Marketing / AI / All Things Digital</span></strong><br />\n<span style="font-size: 12pt\; font-family: Arial\, sans-serif\;"><span style="font-size:12px\;">More information coming soon!</span></span>
LOCATION:Chamber Office 23 Bullsboro Dr Newnan\, GA
UID:e.468.21543
SEQUENCE:3
DTSTAMP:20260424T104527Z
URL:https://www.newnancowetachamber.org/events/details/non-profit-alliance-meeting-21543
END:VEVENT

END:VCALENDAR
