BEGIN:VCALENDAR
VERSION:2.0
PRODID:-//ChamberMaster//Event Calendar 2.0//EN
METHOD:PUBLISH
X-PUBLISHED-TTL:P3D
REFRESH-INTERVAL:P3D
CALSCALE:GREGORIAN
BEGIN:VEVENT
DTSTART:20231108T143000Z
DTEND:20231108T153000Z
X-MICROSOFT-CDO-ALLDAYEVENT:FALSE
SUMMARY:Non-Profit Alliance Meeting: Folder Stuffing
DESCRIPTION:This month's NPA meeting will be a working one! Come prepared to stuff folders full of Non-Profit fliers\, brochures\, etc. in preparation for Friendsgiving!
X-ALT-DESC;FMTTYPE=text/html:This month&#39\;s NPA meeting will be a working one! Come prepared to stuff folders full of Non-Profit fliers\, brochures\, etc. in preparation for Friendsgiving!
LOCATION:The Chamber 23 Bullsboro Drive Newnan\, GA 30263
UID:e.468.19890
SEQUENCE:3
DTSTAMP:20260420T015704Z
URL:https://www.newnancowetachamber.org/events/details/non-profit-alliance-meeting-folder-stuffing-19890
END:VEVENT

END:VCALENDAR
