BEGIN:VCALENDAR
VERSION:2.0
PRODID:-//ChamberMaster//Event Calendar 2.0//EN
METHOD:PUBLISH
X-PUBLISHED-TTL:P3D
REFRESH-INTERVAL:P3D
CALSCALE:GREGORIAN
BEGIN:VEVENT
DTSTART:20200721T173000Z
DTEND:20200721T183000Z
X-MICROSOFT-CDO-ALLDAYEVENT:FALSE
SUMMARY:Non-Profit Alliance Virtual Roundtable
DESCRIPTION:
X-ALT-DESC;FMTTYPE=text/html:
LOCATION:
UID:e.468.16730
SEQUENCE:3
DTSTAMP:20260426T024330Z
URL:https://www.newnancowetachamber.org/events/details/non-profit-alliance-virtual-roundtable-16730
END:VEVENT

END:VCALENDAR
