BEGIN:VCALENDAR
VERSION:2.0
PRODID:-//ChamberMaster//Event Calendar 2.0//EN
METHOD:PUBLISH
X-PUBLISHED-TTL:P3D
REFRESH-INTERVAL:P3D
CALSCALE:GREGORIAN
BEGIN:VEVENT
DTSTART:20161025T113000Z
DTEND:20161025T130000Z
X-MICROSOFT-CDO-ALLDAYEVENT:FALSE
SUMMARY:NuLink Early Bird Forum 10.25.16
DESCRIPTION:Speaker - Lee Thomas\, Deputy Commissioner\n\nilm\, Music & Digital Entertainment/Georgia Dept. of Economic Development\n\nThese hugely popular morning opportunities feature upscale programs and speakers\,  exclusive information\, and great opportunity to network with Coweta's business and community leaders.  Held quarterly these events take place at The Newnan Centre from 7:30 - 9am.  Cost is $20 for Chamber members and their guests or $50 for general admission.
X-ALT-DESC;FMTTYPE=text/html:<span style="font-size: 12px\;"><span style="font-family: tahoma\;"><span style="letter-spacing: 0.75pt\;"><strong>Speaker - Lee Thomas\, Deputy Commissioner<br />\nilm\, Music &amp\; Digital Entertainment/Georgia Dept. of Economic Development</strong><br />\nThese hugely popular morning opportunities feature upscale programs and speakers\, &nbsp\;exclusive information\, and great opportunity to network with Coweta&#39\;s business and community leaders. &nbsp\;Held quarterly these events take place at The Newnan Centre from 7:30 - 9am. &nbsp\;Cost is $20 for Chamber members and their guests or $50 for general admission.</span></span></span>
LOCATION:The Newnan Centre 1515 Lower Fayetteville Road Newnan\, GA 30263
UID:e.468.9822
SEQUENCE:3
DTSTAMP:20260424T221041Z
URL:https://www.newnancowetachamber.org/events/details/nulink-early-bird-forum-10-25-16-10-25-2016-9822
END:VEVENT

END:VCALENDAR
