BEGIN:VCALENDAR
VERSION:2.0
PRODID:-//ChamberMaster//Event Calendar 2.0//EN
METHOD:PUBLISH
X-PUBLISHED-TTL:P3D
REFRESH-INTERVAL:P3D
CALSCALE:GREGORIAN
BEGIN:VEVENT
DTSTART:20240424T123000Z
DTEND:20240424T143000Z
X-MICROSOFT-CDO-ALLDAYEVENT:FALSE
SUMMARY:Pancakes & Politics
DESCRIPTION:Join the Newnan-Coweta Chamber on Wednesday\, April 24th at 8:30AM at the Newnan Country Club for Pancakes and Politics! This is a chance to meet your Coweta legislative delegation and Chris Clark\, president and CEO of the Georgia Chamber.\n\n\n\nThe 2024 legislative session has ended\, and we're eager to learn more from our Coweta Delegates about what transpired under the Gold Dome. \n\n\n\nThis annual event\, presented by Coweta-Fayette EMC\, allows members to hear first-hand from the Coweta Legislative Delegation about the recent legislative session - what passed\, what failed\, and what never made it to vote or carried over to the following year. \n\n\n\nGeorgia Chamber President and CEO Chris Clark moderates our panel AND presents an annual crowd-favorite New Georgia Economy update.
X-ALT-DESC;FMTTYPE=text/html:Join the Newnan-Coweta Chamber on Wednesday\, April 24th at 8:30AM at the Newnan Country Club for Pancakes and Politics! This is a chance to meet your Coweta legislative delegation and Chris Clark\, president and CEO of the Georgia Chamber.<br />\n<br />\nThe 2024 legislative session has ended\, and we&#39\;re eager to learn more from our Coweta Delegates about what transpired under the Gold Dome.&nbsp\;<br />\n<br />\nThis annual event\, presented by Coweta-Fayette EMC\, allows members to hear first-hand from the Coweta Legislative Delegation about the recent legislative session - what passed\, what failed\, and what never made it to vote or carried over to the following year.&nbsp\;<br />\n<br />\nGeorgia Chamber President and CEO Chris Clark moderates our panel AND presents an annual crowd-favorite New Georgia Economy update.
LOCATION:Newnan Country Club 1356 Hwy 29 N Newnan\, Georgia 30263
UID:e.468.19894
SEQUENCE:3
DTSTAMP:20260419T154250Z
URL:https://www.newnancowetachamber.org/events/details/pancakes-politics-19894
END:VEVENT

END:VCALENDAR
