BEGIN:VCALENDAR
VERSION:2.0
PRODID:-//ChamberMaster//Event Calendar 2.0//EN
METHOD:PUBLISH
X-PUBLISHED-TTL:P3D
REFRESH-INTERVAL:P3D
CALSCALE:GREGORIAN
BEGIN:VEVENT
DTSTART:20200730T150000Z
DTEND:20200730T163000Z
X-MICROSOFT-CDO-ALLDAYEVENT:FALSE
SUMMARY:Policy & Regulatory Committee
DESCRIPTION:
X-ALT-DESC;FMTTYPE=text/html:
LOCATION:
UID:e.468.16732
SEQUENCE:3
DTSTAMP:20260426T042107Z
URL:https://www.newnancowetachamber.org/events/details/policy-regulatory-committee-07-30-2020-16732
END:VEVENT

END:VCALENDAR
