BEGIN:VCALENDAR
VERSION:2.0
PRODID:-//ChamberMaster//Event Calendar 2.0//EN
METHOD:PUBLISH
X-PUBLISHED-TTL:P3D
REFRESH-INTERVAL:P3D
CALSCALE:GREGORIAN
BEGIN:VEVENT
DTSTART:20200924T153000Z
DTEND:20200924T163000Z
X-MICROSOFT-CDO-ALLDAYEVENT:FALSE
SUMMARY:Policy & Regulatory Committee Meeting
DESCRIPTION:Policy & Regulatory Task Force Committee Meeting
X-ALT-DESC;FMTTYPE=text/html:Policy &amp\; Regulatory Task Force Committee Meeting
LOCATION:Virtual
UID:e.468.16783
SEQUENCE:3
DTSTAMP:20260425T233923Z
URL:https://www.newnancowetachamber.org/events/details/policy-regulatory-committee-meeting-16783
END:VEVENT

END:VCALENDAR
