BEGIN:VCALENDAR
VERSION:2.0
PRODID:-//ChamberMaster//Event Calendar 2.0//EN
METHOD:PUBLISH
X-PUBLISHED-TTL:P3D
REFRESH-INTERVAL:P3D
CALSCALE:GREGORIAN
BEGIN:VEVENT
DTSTART:20200813T150000Z
DTEND:20200813T163000Z
X-MICROSOFT-CDO-ALLDAYEVENT:FALSE
SUMMARY:Policy & Regulatory Committee Virtual Meeting
DESCRIPTION:
X-ALT-DESC;FMTTYPE=text/html:
LOCATION:
UID:e.468.16735
SEQUENCE:3
DTSTAMP:20260426T011826Z
URL:https://www.newnancowetachamber.org/events/details/policy-regulatory-committee-virtual-meeting-16735
END:VEVENT

END:VCALENDAR
