BEGIN:VCALENDAR
VERSION:2.0
PRODID:-//ChamberMaster//Event Calendar 2.0//EN
METHOD:PUBLISH
X-PUBLISHED-TTL:P3D
REFRESH-INTERVAL:P3D
CALSCALE:GREGORIAN
BEGIN:VEVENT
DTSTART:20201105T163000Z
DTEND:20201105T173000Z
X-MICROSOFT-CDO-ALLDAYEVENT:FALSE
SUMMARY:Policy & Regulatory Committee Virtual Meeting
DESCRIPTION:Policy & Regulatory Task Force Committee Meeting
X-ALT-DESC;FMTTYPE=text/html:Policy &amp\; Regulatory Task Force Committee Meeting
LOCATION:Virtual
UID:e.468.16840
SEQUENCE:3
DTSTAMP:20260425T204227Z
URL:https://www.newnancowetachamber.org/events/details/policy-regulatory-committee-virtual-meeting-16840
END:VEVENT

END:VCALENDAR
