BEGIN:VCALENDAR
VERSION:2.0
PRODID:-//ChamberMaster//Event Calendar 2.0//EN
METHOD:PUBLISH
X-PUBLISHED-TTL:P3D
REFRESH-INTERVAL:P3D
CALSCALE:GREGORIAN
BEGIN:VEVENT
DTSTART:20200727T200000Z
DTEND:20200727T204500Z
X-MICROSOFT-CDO-ALLDAYEVENT:FALSE
SUMMARY:Retraining and Rehiring Committee Virtual Meeting
DESCRIPTION:Email Larry Alford at larry.alford@innovate.gatech.edu if you would like to participate\n\nMicrosoft Teams Meeting
X-ALT-DESC;FMTTYPE=text/html:Email Larry Alford at <a href="mailto:larry.alford@innovate.gatech.edu">larry.alford@innovate.gatech.edu</a> if you would like to participate<br />\nMicrosoft Teams Meeting<br />\n&nbsp\;<br />\n<br />\n&nbsp\;
LOCATION:
UID:e.468.16326
SEQUENCE:3
DTSTAMP:20260426T030049Z
URL:https://www.newnancowetachamber.org/events/details/retraining-and-rehiring-committee-meeting-virtual-gotomeeting-07-27-2020-16326
END:VEVENT

END:VCALENDAR
