BEGIN:VCALENDAR
VERSION:2.0
PRODID:-//ChamberMaster//Event Calendar 2.0//EN
METHOD:PUBLISH
X-PUBLISHED-TTL:P3D
REFRESH-INTERVAL:P3D
CALSCALE:GREGORIAN
BEGIN:VEVENT
DTSTART:20211007T200000Z
DTEND:20211007T210000Z
X-MICROSOFT-CDO-ALLDAYEVENT:FALSE
SUMMARY:Ribbon Cutting: 714 Bistro
DESCRIPTION:Nathan Brain and team opened 714 Bistro in January 2020 with huge hopes for their first year! The pandemic hit and they quickly adjusted their menu and routine to best suit the community during that uncertain time. 714 Bistro is grateful their business survived and they appreciate the support of this amazing community. In celebration of 714 Bistro revitalizing their menu as it was for the initial opening back in January 2020\, please join us for appetizers and drinks\, giveaways and special pricing on their favorite cocktails and desserts during this Ribbon Cutting event! Register as space is limited.
X-ALT-DESC;FMTTYPE=text/html:<font face="tahoma"><span style="font-size: 14px\;">Nathan Brain and team opened 714 Bistro in January 2020 with huge hopes for their first year! The pandemic hit and they quickly adjusted their menu and routine to best suit the community during that uncertain time. 714 Bistro is grateful their business survived and they appreciate the support of this amazing community. In celebration of 714 Bistro revitalizing their menu as it was for the initial opening back in January 2020\, please join us for appetizers and drinks\, giveaways and special pricing on their favorite cocktails and desserts during this Ribbon Cutting event! Register as space is limited.&nbsp\;</span></font>
LOCATION:7 Spring Street | Newnan
UID:e.468.17893
SEQUENCE:3
DTSTAMP:20260425T030708Z
URL:https://www.newnancowetachamber.org/events/details/ribbon-cutting-714-bistro-17893
END:VEVENT

END:VCALENDAR
