BEGIN:VCALENDAR
VERSION:2.0
PRODID:-//ChamberMaster//Event Calendar 2.0//EN
METHOD:PUBLISH
X-PUBLISHED-TTL:P3D
REFRESH-INTERVAL:P3D
CALSCALE:GREGORIAN
BEGIN:VEVENT
DTSTART:20240425T160000Z
DTEND:20240425T170000Z
X-MICROSOFT-CDO-ALLDAYEVENT:FALSE
SUMMARY:Ribbon Cutting: a PC of mind
DESCRIPTION:Join the Newnan-Coweta Chamber ribbon cutting celebration for "a PC of mind". Proudly serving Fayette\, Peachtree City\, Newnan\, and surrounding areas\, "a PC of mind" is a leading expert on the services we all need to excel in today's business world: IT networking\, internet\, security\, and telecom. They driven by two core principles\, which are to ensure you have "always on" IT and telecom\, and to enhance your business's productivity with personalized technology offerings. They will be giving away tech goodies\, discounts on services\, and will have the event catered. Also\, company swag bags to give away as well.
X-ALT-DESC;FMTTYPE=text/html:Join the Newnan-Coweta Chamber ribbon cutting celebration for &quot\;a PC of mind&quot\;.&nbsp\;Proudly serving Fayette\, Peachtree City\, Newnan\, and surrounding areas\, &quot\;a PC of mind&quot\; is a leading expert on the services we all need to excel in today&#39\;s business world: IT networking\, internet\, security\, and telecom. They driven by two core principles\, which are to ensure you have &quot\;always on&quot\; IT and telecom\, and to enhance your business&#39\;s productivity with personalized technology offerings. They&nbsp\;will be giving away tech goodies\, discounts on services\, and will have the event catered. Also\, company swag bags to give away as well.
LOCATION:Newnan-Coweta Chamber 23 Bullsboro Drive Newnan\, GA 30263
UID:e.468.20221
SEQUENCE:3
DTSTAMP:20260419T154517Z
URL:https://www.newnancowetachamber.org/events/details/ribbon-cutting-a-pc-of-mind-20221
END:VEVENT

END:VCALENDAR
