BEGIN:VCALENDAR
VERSION:2.0
PRODID:-//ChamberMaster//Event Calendar 2.0//EN
METHOD:PUBLISH
X-PUBLISHED-TTL:P3D
REFRESH-INTERVAL:P3D
CALSCALE:GREGORIAN
BEGIN:VEVENT
DTSTART:20230120T170000Z
DTEND:20230120T180000Z
X-MICROSOFT-CDO-ALLDAYEVENT:FALSE
SUMMARY:Ribbon Cutting: Access Med MD
DESCRIPTION:Join us for the Ribbon Cutting of Access Med MD. Access Med MD is a simple and innovative solution to healthcare. They put patients first and personalize their healthcare needs with affordable pricing on labs and medications. Light snacks are served during the event. Please register!
X-ALT-DESC;FMTTYPE=text/html:<span style="font-size:14px\;"><span style="font-family:tahoma\;">Join us for the Ribbon Cutting of Access Med MD. Access Med MD is a simple and innovative solution to healthcare. They put patients first and personalize their healthcare needs with affordable pricing on labs and medications. Light snacks are served during the event. Please register!</span></span>
LOCATION:10 Ashmore Drive Newnan\, Georgia 30263
UID:e.468.18608
SEQUENCE:3
DTSTAMP:20260422T161122Z
URL:https://www.newnancowetachamber.org/events/details/ribbon-cutting-access-med-md-18608
END:VEVENT

END:VCALENDAR
