BEGIN:VCALENDAR
VERSION:2.0
PRODID:-//ChamberMaster//Event Calendar 2.0//EN
METHOD:PUBLISH
X-PUBLISHED-TTL:P3D
REFRESH-INTERVAL:P3D
CALSCALE:GREGORIAN
BEGIN:VEVENT
DTSTART:20230829T160000Z
DTEND:20230829T170000Z
X-MICROSOFT-CDO-ALLDAYEVENT:FALSE
SUMMARY:Ribbon Cutting: Alzheimer's Association
DESCRIPTION:Please join us for the Ribbon Cutting of Alzheimer's Association! Held annually in more than 600 communities nationwide\, the Alzheimer's Association Walk to End Alzheimer's  is the world's largest fundraiser for Alzheimer's care\, support and research. This inspiring event will be held on October 7\, 2023 at the Fredrick Brown Jr. Amphitheater\, 201 McIntosh Trail\, Peachtree City\, GA and calls on participants of all ages and abilities to join the fight against the disease. Attendees are encouraged to bring a business card to the event for a chance to win a door prize. Lunch is provided. Please register!
X-ALT-DESC;FMTTYPE=text/html:<span style="font-size:14px\;"><span style="font-family:tahoma\;">Please join us for the Ribbon Cutting of Alzheimer&#39\;s Association!&nbsp\;<span style="caret-color: rgb(0\, 0\, 0)\; text-size-adjust: auto\;">Held annually in more than 600 communities nationwide\, the Alzheimer&#39\;s Association Walk to End Alzheimer&#39\;s&reg\; is the world&#39\;s largest fundraiser for Alzheimer&#39\;s care\, support and research. This inspiring event will be held on October 7\, 2023 at the Fredrick Brown Jr. Amphitheater\, 201 McIntosh Trail\, Peachtree City\, GA and&nbsp\;calls on participants of all ages and abilities to join the fight against the disease. Attendees are encouraged to bring a business card to the event for a chance to win a door prize. Lunch is provided. Please register!</span></span></span>
LOCATION:The Newnan-Coweta Chamber 23 Bullsboro Drive Newnan\, Georgia 30263
UID:e.468.18938
SEQUENCE:3
DTSTAMP:20260420T051910Z
URL:https://www.newnancowetachamber.org/events/details/ribbon-cutting-alzheimer-s-association-18938
END:VEVENT

END:VCALENDAR
