BEGIN:VCALENDAR
VERSION:2.0
PRODID:-//ChamberMaster//Event Calendar 2.0//EN
METHOD:PUBLISH
X-PUBLISHED-TTL:P3D
REFRESH-INTERVAL:P3D
CALSCALE:GREGORIAN
BEGIN:VEVENT
DTSTART:20231025T160000Z
DTEND:20231025T170000Z
X-MICROSOFT-CDO-ALLDAYEVENT:FALSE
SUMMARY:Ribbon Cutting: Ana Lombardi Photography
DESCRIPTION:Join us for the Ribbon Cutting of Ana Lombardi Photography! Ana Lombardi has been providing photography services for 20 years\, including business headshots and branding\, high school seniors\, product photography\, family portrait sessions\, model/acting portfolios and pet photography. Ana has a 2400 sq. ft. studio where there is more than enough space to be as creative as you want. Attendees can enjoy a mimosa bar\, yummy food and desserts. Come get a photo with your Chamber buddies in a unique Photo Booth. Door prizes and a grand prize! Please register!
X-ALT-DESC;FMTTYPE=text/html:<span style="font-family:tahoma\;"><span style="font-size:14px\;">Join us for the Ribbon Cutting of&nbsp\;<span style="caret-color: rgb(51\, 51\, 51)\; text-size-adjust: auto\;">Ana Lombardi Photography!&nbsp\;Ana Lombardi has&nbsp\;</span><span style="caret-color: rgb(0\, 0\, 0)\; text-size-adjust: auto\;">been providing photography services for 20 years\, including business headshots and branding\, high school seniors\, product photography\, family portrait sessions\, model/acting portfolios and pet photography. Ana has a 2400 sq. ft. studio where there is more than enough space to be as creative as you want. Attendees can enjoy a m</span><span style="color: rgb(33\, 33\, 33)\;">imosa bar\, yummy food and desserts. Come get a photo with your Chamber buddies&nbsp\;in a unique Photo Booth. Door prizes and a grand prize!&nbsp\;</span><span style="caret-color: rgb(0\, 0\, 0)\; text-size-adjust: auto\;">Please register!</span></span></span>
LOCATION:207 Marion Beavers Road Sharpsburg\, Georgia 30277
UID:e.468.18919
SEQUENCE:3
DTSTAMP:20260420T020023Z
URL:https://www.newnancowetachamber.org/events/details/ribbon-cutting-ana-lombardi-photography-18919
END:VEVENT

END:VCALENDAR
