BEGIN:VCALENDAR
VERSION:2.0
PRODID:-//ChamberMaster//Event Calendar 2.0//EN
METHOD:PUBLISH
X-PUBLISHED-TTL:P3D
REFRESH-INTERVAL:P3D
CALSCALE:GREGORIAN
BEGIN:VEVENT
DTSTART:20240823T160000Z
DTEND:20240823T170000Z
X-MICROSOFT-CDO-ALLDAYEVENT:FALSE
SUMMARY:Ribbon Cutting: Andy's Frozen Custard
DESCRIPTION:Please join the Newnan-Coweta Chamber in celebrating the ribbon cutting of Andy's Frozen Custard! Andy's Frozen Custard  has always been fanatical about frozen custard and has served it with pride since March 19\, 1986. For more than three decades\, only the freshest ingredients have been used for a frozen custard experience you can't get anywhere else. Andy's Frozen Custard  is a quick service frozen dessert business\, with drive through and walk-up service windows. Andys  has a wide variety of treats from simple vanilla or chocolate cones to sundaes\, concretes and seasonal favorites like our Pumpkin Pie Concretes and Strawberry Shortcake Sundaes. $2 1-Topping Sundaes all day\, Prize Wheel 11:30-1:00pm and 5:00pm-8:00pm.
X-ALT-DESC;FMTTYPE=text/html:Please join the Newnan-Coweta Chamber in celebrating the ribbon cutting of Andy&#39\;s Frozen Custard!&nbsp\;Andy&rsquo\;s Frozen Custard&reg\; has always been fanatical about frozen custard and has served it with pride since March 19\, 1986. For more than three decades\, only the freshest ingredients have been used for a frozen custard experience you can&rsquo\;t get anywhere else. Andy&rsquo\;s Frozen Custard&reg\; is a quick service frozen dessert business\, with drive through and walk-up service windows. Andys&trade\; has a wide variety of treats from simple vanilla or chocolate cones to sundaes\, concretes and seasonal favorites like our Pumpkin Pie Concretes and Strawberry Shortcake Sundaes.&nbsp\;$2 1-Topping Sundaes all day\, Prize Wheel 11:30-1:00pm and 5:00pm-8:00pm.
LOCATION:90 Fisher Marketplace Lane Sharpsburg\, GA 30277
UID:e.468.20488
SEQUENCE:3
DTSTAMP:20260420T034408Z
URL:https://www.newnancowetachamber.org/events/details/ribbon-cutting-andy-s-frozen-custard-20488
END:VEVENT

END:VCALENDAR
