BEGIN:VCALENDAR
VERSION:2.0
PRODID:-//ChamberMaster//Event Calendar 2.0//EN
METHOD:PUBLISH
X-PUBLISHED-TTL:P3D
REFRESH-INTERVAL:P3D
CALSCALE:GREGORIAN
BEGIN:VEVENT
DTSTART:20240416T213000Z
DTEND:20240417T000000Z
X-MICROSOFT-CDO-ALLDAYEVENT:FALSE
SUMMARY:Ribbon Cutting/Anniversary: Food for Thought Catering and Kitchen To Go
DESCRIPTION:Join the Newnan-Coweta Chamber is celebrating the ribbon cutting/anniversary of Food for Thought Catering and Kitchen To Go! They are a full-service catering company that can accommodate 15ppl-3000+. Food for Thought is a made from scratch kitchen\, with authentic\, rich\, and flavorful recipes. They specialize in everything from sandwich platters for office meetings up to high end weddings and corporate events. They pride themselves in being a true catering company that caters to your specific needs. Kitchen Togo offers chef driven meals serving comfort food\, Mexican\, Italian\, just to name a few. Pick up meals for work and home\, daily. Call to place your order or stop in to browse what new item might be offered that day. Most meals are packaged individual and family style. Our goal is: "The Perfect Bite...Every time!" Join us for cocktails\, great food and mingling with Newnan-Coweta's finest people. Join us for cocktails\, great food and mingling with Newnan-Coweta's finest people. Drawings for Kitchen To Go meals.
X-ALT-DESC;FMTTYPE=text/html:<span style="font-size:12px\;">Join the Newnan-Coweta Chamber is celebrating the ribbon cutting/anniversary of Food for Thought Catering and Kitchen To Go!&nbsp\;<span style="color: rgb(0\, 0\, 0)\; font-family: Calibri\, Helvetica\, sans-serif\, Helvetica\, EmojiFont\, &quot\;Apple Color Emoji&quot\;\, &quot\;Segoe UI Emoji&quot\;\, NotoColorEmoji\, &quot\;Segoe UI Symbol&quot\;\, &quot\;Android Emoji&quot\;\, EmojiSymbols\;">They are a full-service catering company that can accommodate 15ppl-3000+. Food for Thought is a made from scratch kitchen\, with authentic\, rich\, and flavorful recipes. They specialize in everything from sandwich platters for office meetings up to high end weddings and corporate events. They pride themselves in being a true catering company that caters to your specific needs. Kitchen Togo offers chef driven meals serving comfort food\, Mexican\, Italian\, just to name a few. Pick up meals for work and home\, daily. Call to place your order or stop in to browse what new item might be offered that day. Most meals are packaged individual and family style. Our goal is: &quot\;The Perfect Bite...Every time!&quot\;&nbsp\;</span>Join us for cocktails\, great food and mingling with Newnan-Coweta&#39\;s finest people. <strong>Join us for cocktails\, great food and mingling with Newnan-Coweta&#39\;s finest people. Drawings for Kitchen To Go meals.</strong></span>
LOCATION:25 Herring Road Newnan\, GA 30265 (Parking instructions coming.)
UID:e.468.20235
SEQUENCE:3
DTSTAMP:20260419T154805Z
URL:https://www.newnancowetachamber.org/events/details/ribbon-cutting-anniversary-food-for-thought-catering-and-kitchen-to-go-20235
END:VEVENT

END:VCALENDAR
